View In:
ArcGIS JavaScript
ArcGIS.com Map
Google Earth
ArcMap
View Footprint In:
ArcGIS.com Map
Service Description: TASK NAME: 2012 Indiana Statewide Imagery and LiDAR Program The Indiana Statewide Imagery and LiDAR project includes data captured at the following specifications: New 1 = 200 scale 4-band orthoimagery (TIF and ECW formats) at a 1-foot pixel resolution for all Indiana counties New 1 = 100 scale 4-band orthoimagery (TIF and ECW formats) at a 0.5-foot pixel resolution for the following Indiana counties flown in 2011: Marion, St. Joseph, Elkhart, Kosciusko, Bartholomew, and Harrison New Statewide LiDAR data at a 1.5-meter average post spacing for all Indiana counties, except: Porter, Steuben, Noble, De Kalb, Allen, Madison, Delaware, Hendricks, Marion, Hancock, Morgan, Johnson, Shelby, Monroe, and portions of Vermillion, Parke, Vigo, Clay, Sullivan, Knox, Gibson, and Posey. The project is divided into three geographic areas: Area 1 2011 - Indiana central counties: St. Joseph, Elkhart, Starke, Marshall, Kosciusko, Pulaski, Fulton, Cass, Miami, Wabash, Carroll, Howard, Clinton, Tipton, Boone, Hendricks, Marion, Morgan, Johnson, Monroe, Brown, Bartholomew, Lawrence, Jackson, Orange, Washington, Crawford, and Harrison. Area 2 2012 - Indiana eastern counties: LaGrange, Steuben, Noble, DeKalb, Whitley, Allen, Huntington, Wells, Adams, Grant, Blackford, Jay, Hamilton, Madison, Delaware, Randolph, Hancock, Henry, Wayne, Shelby, Rush, Fayette, Union, Decatur, Franklin, Jennings, Ripley, Dearborn, Ohio, Scott, Jefferson, Switzerland, Clark, and Floyd. Area 3 Scheduled for 2013 - Indiana western counties: Lake, Porter, LaPorte, Newton, Jasper, Benton, White, Warren, Tippecanoe, Fountain, Montgomery, Vermillion, Parke, Putnam, Vigo, Clay, Owen, Sullivan, Greene, Knox, Daviess, Martin, Gibson, Pike, Dubois, Posey, Vanderburgh, Warrick, Spencer, and Perry. Area 1 data was acquired in 2011. Area 2 data was acquired in 2012. According to the scope of this project, additional data collection is scheduled for Area 3 in 2013. Projection Reference: EPSG2965: NAD83 Indiana East (ftUS) and EPSG2966: NAD83 Indiana West (ftUS). Note: The ground control survey performed to support the Orthophotography and LiDAR data used the NAD 1983 NSRS2007 (ftUS) projection. To facilitate usability by multiple software versions the Orthophotography and LiDAR is only referenced to NAD 83, and the file projection/header information was written to the files using ERDAS IMAGINE.
Name: Imagery/AERIALS_2012
Description: TASK NAME: 2012 Indiana Statewide Imagery and LiDAR Program The Indiana Statewide Imagery and LiDAR project includes data captured at the following specifications: New 1 = 200 scale 4-band orthoimagery (TIF and ECW formats) at a 1-foot pixel resolution for all Indiana counties New 1 = 100 scale 4-band orthoimagery (TIF and ECW formats) at a 0.5-foot pixel resolution for the following Indiana counties flown in 2011: Marion, St. Joseph, Elkhart, Kosciusko, Bartholomew, and Harrison New Statewide LiDAR data at a 1.5-meter average post spacing for all Indiana counties, except: Porter, Steuben, Noble, De Kalb, Allen, Madison, Delaware, Hendricks, Marion, Hancock, Morgan, Johnson, Shelby, Monroe, and portions of Vermillion, Parke, Vigo, Clay, Sullivan, Knox, Gibson, and Posey. The project is divided into three geographic areas: Area 1 2011 - Indiana central counties: St. Joseph, Elkhart, Starke, Marshall, Kosciusko, Pulaski, Fulton, Cass, Miami, Wabash, Carroll, Howard, Clinton, Tipton, Boone, Hendricks, Marion, Morgan, Johnson, Monroe, Brown, Bartholomew, Lawrence, Jackson, Orange, Washington, Crawford, and Harrison. Area 2 2012 - Indiana eastern counties: LaGrange, Steuben, Noble, DeKalb, Whitley, Allen, Huntington, Wells, Adams, Grant, Blackford, Jay, Hamilton, Madison, Delaware, Randolph, Hancock, Henry, Wayne, Shelby, Rush, Fayette, Union, Decatur, Franklin, Jennings, Ripley, Dearborn, Ohio, Scott, Jefferson, Switzerland, Clark, and Floyd. Area 3 Scheduled for 2013 - Indiana western counties: Lake, Porter, LaPorte, Newton, Jasper, Benton, White, Warren, Tippecanoe, Fountain, Montgomery, Vermillion, Parke, Putnam, Vigo, Clay, Owen, Sullivan, Greene, Knox, Daviess, Martin, Gibson, Pike, Dubois, Posey, Vanderburgh, Warrick, Spencer, and Perry. Area 1 data was acquired in 2011. Area 2 data was acquired in 2012. According to the scope of this project, additional data collection is scheduled for Area 3 in 2013. Projection Reference: EPSG2965: NAD83 Indiana East (ftUS) and EPSG2966: NAD83 Indiana West (ftUS). Note: The ground control survey performed to support the Orthophotography and LiDAR data used the NAD 1983 NSRS2007 (ftUS) projection. To facilitate usability by multiple software versions the Orthophotography and LiDAR is only referenced to NAD 83, and the file projection/header information was written to the files using ERDAS IMAGINE.
Single Fused Map Cache: true
Tile Info:
- Height: 256
- Width: 256
- DPI: 96
-
Levels of Detail: 10
- Format: JPEG
- Compression Quality: 55.0
- Origin: X: -1.81198E7
Y: 2.00127E7
- Spatial Reference: 2244
(2965)
Extent:
XMin: 417500
YMin: 2062500
XMax: 570000
YMax: 2197500
Spatial Reference: 2244
(2965)
Initial Extent:
XMin: 417500
YMin: 2062500
XMax: 570000
YMax: 2197500
Spatial Reference: 2244
(2965)
Full Extent:
XMin: 417500
YMin: 2062500
XMax: 570000
YMax: 2197500
Spatial Reference: 2244
(2965)
Pixel Size X: 0.5
Pixel Size Y: 0.5
Band Count: 4
Pixel Type: U8
RasterFunction Infos: N/A
Mensuration Capabilities: Basic
Has Histograms: true
Has Colormap: false
Min Scale: 288000
Max Scale: 500
Copyright Text: imap
Service Data Type: esriImageServiceDataTypeGeneric
Min Values: 0, 0, 0, 0
Max Values: 255, 255, 255, 255
Mean Values: 135.79979302129385, 128.72024808917928, 100.95326150931444, 134.8232879289218
Standard Deviation Values: 32.57131806413176, 29.27915407831862, 25.297655133579536, 28.6130321443913
Object ID Field:
Fields:
None
Default Mosaic Method: Center
Allowed Mosaic Methods:
SortField:
SortValue: null
Mosaic Operator: First
Default Compression Quality: 75
Default Resampling Method: Bilinear
Max Record Count: null
Max Image Height: 4100
Max Image Width: 15000
Max Download Image Count: null
Max Mosaic Image Count: null
Allow Raster Function: true
Allow Compute TiePoints: false
Supports Statistics: false
Supports Advanced Queries: false
Use StandardizedQueries: true
Raster Type Infos:
Name: Raster Dataset
Description: Supports all ArcGIS Raster Datasets
Help:
Has Raster Attribute Table: false
Edit Fields Info: null
Ownership Based AccessControl For Rasters: null
Child Resources:
Info
Histograms
Key Properties
Legend
Supported Operations:
Export Image
Identify
Measure
Compute Histograms
Get Samples
Compute Class Statistics