View In:
ArcGIS JavaScript
ArcGIS.com Map
Google Earth
ArcMap
View Footprint In:
ArcGIS.com Map
Service Description: The 2008 aerial photography was flown April 16th & 18th of 2008. It was produced by the City of Fort Wayne, with a grant from the National Geospatial Intelligence Agency and the USGS. The photos have a 6" pixel resolution and cover the entire county.
Name: Imagery/AERIALS_2008
Description: The 2008 aerial photography was flown April 16th & 18th of 2008. It was produced by the City of Fort Wayne, with a grant from the National Geospatial Intelligence Agency and the USGS. The photos have a 6" pixel resolution and cover the entire county.
Single Fused Map Cache: true
Tile Info:
- Height: 256
- Width: 256
- DPI: 96
-
Levels of Detail: 10
- Format: JPEG
- Compression Quality: 55.0
- Origin: X: -1.81198E7
Y: 2.00127E7
- Spatial Reference: 2244
(2965)
Extent:
XMin: 416000
YMin: 2060000
XMax: 568000
YMax: 2200000
Spatial Reference: 2244
(2965)
Initial Extent:
XMin: 416000
YMin: 2060000
XMax: 568000
YMax: 2200000
Spatial Reference: 2244
(2965)
Full Extent:
XMin: 416000
YMin: 2060000
XMax: 568000
YMax: 2200000
Spatial Reference: 2244
(2965)
Pixel Size X: 0.5
Pixel Size Y: 0.5
Band Count: 3
Pixel Type: U8
RasterFunction Infos: N/A
Mensuration Capabilities: Basic
Has Histograms: true
Has Colormap: false
Min Scale: 288000
Max Scale: 500
Copyright Text: imap
Service Data Type: esriImageServiceDataTypeRGB
Min Values: 0, 0, 0
Max Values: 254, 254, 254
Mean Values: 132.64363605580357, 131.35055140290177, 122.12443143526785
Standard Deviation Values: 42.84430847757848, 40.05599978862122, 35.54615682195049
Object ID Field:
Fields:
None
Default Mosaic Method: Center
Allowed Mosaic Methods:
SortField:
SortValue: null
Mosaic Operator: First
Default Compression Quality: 75
Default Resampling Method: Bilinear
Max Record Count: null
Max Image Height: 4100
Max Image Width: 15000
Max Download Image Count: null
Max Mosaic Image Count: null
Allow Raster Function: true
Allow Compute TiePoints: false
Supports Statistics: false
Supports Advanced Queries: false
Use StandardizedQueries: true
Raster Type Infos:
Name: Raster Dataset
Description: Supports all ArcGIS Raster Datasets
Help:
Has Raster Attribute Table: false
Edit Fields Info: null
Ownership Based AccessControl For Rasters: null
Child Resources:
Info
Histograms
Key Properties
Legend
Supported Operations:
Export Image
Identify
Measure
Compute Histograms
Get Samples
Compute Class Statistics