View In:
ArcGIS JavaScript
ArcGIS.com Map
Google Earth
ArcMap
View Footprint In:
ArcGIS.com Map
Service Description: 1999 imagery
Name: Imagery/AERIALS_1999
Description: 1999 imagery
Single Fused Map Cache: true
Tile Info:
- Height: 256
- Width: 256
- DPI: 96
-
Levels of Detail: 10
- Format: JPEG
- Compression Quality: 55.0
- Origin: X: -1.81198E7
Y: 2.00127E7
- Spatial Reference: 2244
(2965)
Extent:
XMin: 415999.9999999976
YMin: 2062000
XMax: 569000.0000000023
YMax: 2197000
Spatial Reference: 2244
(2965)
Initial Extent:
XMin: 415999.9999999976
YMin: 2062000
XMax: 569000.0000000023
YMax: 2197000
Spatial Reference: 2244
(2965)
Full Extent:
XMin: 415999.9999999976
YMin: 2062000
XMax: 569000.0000000023
YMax: 2197000
Spatial Reference: 2244
(2965)
Pixel Size X: 0.5000000000000154
Pixel Size Y: 0.5
Band Count: 1
Pixel Type: U8
RasterFunction Infos: N/A
Mensuration Capabilities: Basic
Has Histograms: true
Has Colormap: false
Min Scale: 288000
Max Scale: 500
Copyright Text: imap
Service Data Type: esriImageServiceDataTypeGeneric
Min Values: 0
Max Values: 255
Mean Values: 49.845830843954246
Standard Deviation Values: 75.32740601321346
Object ID Field:
Fields:
None
Default Mosaic Method: Center
Allowed Mosaic Methods:
SortField:
SortValue: null
Mosaic Operator: First
Default Compression Quality: 75
Default Resampling Method: Bilinear
Max Record Count: null
Max Image Height: 4100
Max Image Width: 15000
Max Download Image Count: null
Max Mosaic Image Count: null
Allow Raster Function: true
Allow Compute TiePoints: false
Supports Statistics: false
Supports Advanced Queries: false
Use StandardizedQueries: true
Raster Type Infos:
Name: Raster Dataset
Description: Supports all ArcGIS Raster Datasets
Help:
Has Raster Attribute Table: false
Edit Fields Info: null
Ownership Based AccessControl For Rasters: null
Child Resources:
Info
Histograms
Key Properties
Legend
Supported Operations:
Export Image
Identify
Measure
Compute Histograms
Get Samples
Compute Class Statistics