View In:
ArcGIS JavaScript
ArcGIS.com Map
Google Earth
ArcMap
View Footprint In:
ArcGIS.com Map
Service Description: Raster dataset created from scans of 1964 aerial contact prints, cropped to remove photo registration marks. Each image was geo-referenced to Allen County street centerline data. The date on the prints is 7/5/64.
Name: Imagery/AERIALS_1964
Description: Raster dataset created from scans of 1964 aerial contact prints, cropped to remove photo registration marks. Each image was geo-referenced to Allen County street centerline data. The date on the prints is 7/5/64.
Single Fused Map Cache: true
Tile Info:
- Height: 256
- Width: 256
- DPI: 96
-
Levels of Detail: 10
- Format: JPEG
- Compression Quality: 55.0
- Origin: X: -1.81198E7
Y: 2.00127E7
- Spatial Reference: 2244
(2965)
Extent:
XMin: 410170.8708759621
YMin: 2062052.641985122
XMax: 574701.785652183
YMax: 2196544.5132837035
Spatial Reference: 2244
(2965)
Initial Extent:
XMin: 410170.8708759621
YMin: 2062052.641985122
XMax: 574701.785652183
YMax: 2196544.5132837035
Spatial Reference: 2244
(2965)
Full Extent:
XMin: 410170.8708759621
YMin: 2062052.641985122
XMax: 574701.785652183
YMax: 2196544.5132837035
Spatial Reference: 2244
(2965)
Pixel Size X: 3.552125796675682
Pixel Size Y: 3.5621324107050896
Band Count: 3
Pixel Type: U8
RasterFunction Infos: N/A
Mensuration Capabilities: Basic
Has Histograms: true
Has Colormap: false
Min Scale: 288000
Max Scale: 500
Copyright Text: Allen County iMap, Allen County Surveyor's Office
Service Data Type: esriImageServiceDataTypeRGB
Min Values: 0, 0, 0
Max Values: 255, 255, 255
Mean Values: 146.37090719566868, 143.62763500462088, 139.71369163202843
Standard Deviation Values: 34.39289950851237, 33.53020631110581, 33.13107430541024
Object ID Field:
Fields:
None
Default Mosaic Method: Center
Allowed Mosaic Methods:
SortField:
SortValue: null
Mosaic Operator: First
Default Compression Quality: 75
Default Resampling Method: Bilinear
Max Record Count: null
Max Image Height: 4100
Max Image Width: 15000
Max Download Image Count: null
Max Mosaic Image Count: null
Allow Raster Function: true
Allow Compute TiePoints: false
Supports Statistics: false
Supports Advanced Queries: false
Use StandardizedQueries: true
Raster Type Infos:
Name: Raster Dataset
Description: Supports all ArcGIS Raster Datasets
Help:
Has Raster Attribute Table: false
Edit Fields Info: null
Ownership Based AccessControl For Rasters: null
Child Resources:
Info
Histograms
Key Properties
Legend
Supported Operations:
Export Image
Identify
Measure
Compute Histograms
Get Samples
Compute Class Statistics