View In:
ArcGIS JavaScript
ArcGIS.com Map
Google Earth
ArcMap
View Footprint In:
ArcGIS.com Map
Service Description: 1957 Aerials
Name: Imagery/AERIALS_1957
Description: 1957 Aerials
Single Fused Map Cache: true
Tile Info:
- Height: 256
- Width: 256
- DPI: 96
-
Levels of Detail: 10
- Format: JPEG
- Compression Quality: 55.0
- Origin: X: -1.81198E7
Y: 2.00127E7
- Spatial Reference: 2244
(2965)
Extent:
XMin: 415787.7301319018
YMin: 2057378.8296941146
XMax: 574327.2548718825
YMax: 2200479.152049795
Spatial Reference: 2244
(2965)
Initial Extent:
XMin: 415787.7301319018
YMin: 2057378.8296941146
XMax: 574327.2548718825
YMax: 2200479.152049795
Spatial Reference: 2244
(2965)
Full Extent:
XMin: 415787.7301319018
YMin: 2057378.8296941146
XMax: 574327.2548718825
YMax: 2200479.152049795
Spatial Reference: 2244
(2965)
Pixel Size X: 3.355475887656212
Pixel Size Y: 3.342059936374426
Band Count: 4
Pixel Type: U8
RasterFunction Infos: N/A
Mensuration Capabilities: Basic
Has Histograms: true
Has Colormap: false
Min Scale: 288000
Max Scale: 500
Copyright Text: imap
Service Data Type: esriImageServiceDataTypeGeneric
Min Values: 0, 0, 0, 255
Max Values: 255, 255, 255, 255
Mean Values: 158.7113393528632, 155.68038878977103, 152.49341643922608, 255
Standard Deviation Values: 38.73812959781767, 37.61919171063688, 37.048492264631534, 0
Object ID Field:
Fields:
None
Default Mosaic Method: Center
Allowed Mosaic Methods:
SortField:
SortValue: null
Mosaic Operator: First
Default Compression Quality: 75
Default Resampling Method: Bilinear
Max Record Count: null
Max Image Height: 4100
Max Image Width: 15000
Max Download Image Count: null
Max Mosaic Image Count: null
Allow Raster Function: true
Allow Compute TiePoints: false
Supports Statistics: false
Supports Advanced Queries: false
Use StandardizedQueries: true
Raster Type Infos:
Name: Raster Dataset
Description: Supports all ArcGIS Raster Datasets
Help:
Has Raster Attribute Table: false
Edit Fields Info: null
Ownership Based AccessControl For Rasters: null
Child Resources:
Info
Histograms
Key Properties
Legend
Supported Operations:
Export Image
Identify
Measure
Compute Histograms
Get Samples
Compute Class Statistics