{
 "currentVersion": 10.71,
 "serviceDescription": "",
 "mapName": "Layers",
 "description": "",
 "copyrightText": "",
 "supportsDynamicLayers": true,
 "layers": [
  {
   "id": 0,
   "name": "GISPublished.SDE.Contours_2017_OCS",
   "parentLayerId": -1,
   "defaultVisibility": true,
   "subLayerIds": null,
   "minScale": 0,
   "maxScale": 0,
   "type": "Feature Layer",
   "geometryType": "esriGeometryPolyline"
  }
 ],
 "tables": [],
 "spatialReference": {
  "wkid": 2967,
  "latestWkid": 2967,
  "vcsWkid": 105703,
  "latestVcsWkid": 6360
 },
 "singleFusedMapCache": true,
 "tileInfo": {
  "rows": 256,
  "cols": 256,
  "dpi": 96,
  "format": "PNG",
  "compressionQuality": 0,
  "origin": {
   "x": -18119800,
   "y": 20012700
  },
  "spatialReference": {
   "wkid": 2967,
   "latestWkid": 2967,
   "vcsWkid": 105703,
   "latestVcsWkid": 6360
  },
  "lods": [
   {
    "level": 0,
    "resolution": 250,
    "scale": 288000
   },
   {
    "level": 1,
    "resolution": 125,
    "scale": 144000
   },
   {
    "level": 2,
    "resolution": 62.5,
    "scale": 72000
   },
   {
    "level": 3,
    "resolution": 31.25,
    "scale": 36000
   },
   {
    "level": 4,
    "resolution": 15.625,
    "scale": 18000
   },
   {
    "level": 5,
    "resolution": 7.8125,
    "scale": 9000
   },
   {
    "level": 6,
    "resolution": 3.90625,
    "scale": 4500
   },
   {
    "level": 7,
    "resolution": 1.736111111111111,
    "scale": 2000
   },
   {
    "level": 8,
    "resolution": 0.8680555555555555,
    "scale": 1000
   },
   {
    "level": 9,
    "resolution": 0.43402777777777773,
    "scale": 500
   }
  ]
 },
 "initialExtent": {
  "xmin": 457040.7732148729,
  "ymin": 2146278.230013412,
  "xmax": 460322.0232148728,
  "ymax": 2147804.271680079,
  "spatialReference": {
   "wkid": 2967,
   "latestWkid": 2967,
   "vcsWkid": 105703,
   "latestVcsWkid": 6360
  }
 },
 "fullExtent": {
  "xmin": 414998.8332153335,
  "ymin": 2059998.833394833,
  "xmax": 569999.7719005011,
  "ymax": 2199999.7718963325,
  "spatialReference": {
   "wkid": 2967,
   "latestWkid": 2967,
   "vcsWkid": 105703,
   "latestVcsWkid": 6360
  }
 },
 "minScale": 288000,
 "maxScale": 500,
 "units": "esriFeet",
 "supportedImageFormatTypes": "PNG32,PNG24,PNG,JPG,DIB,TIFF,EMF,PS,PDF,GIF,SVG,SVGZ,BMP",
 "documentInfo": {
  "Title": "",
  "Author": "",
  "Comments": "",
  "Subject": "",
  "Category": "",
  "AntialiasingMode": "None",
  "TextAntialiasingMode": "Force",
  "Keywords": ""
 },
 "capabilities": "Map,Query,Data",
 "supportedQueryFormats": "JSON, geoJSON",
 "exportTilesAllowed": false,
 "supportsDatumTransformation": true,
 "maxRecordCount": 1000,
 "maxImageHeight": 4096,
 "maxImageWidth": 4096,
 "supportedExtensions": "KmlServer"
}
