<?xml version="1.0" encoding="UTF-8" standalone="no"?>
<metadata xml:lang="en">
<Esri>
<CreaDate>20130103</CreaDate>
<CreaTime>13063300</CreaTime>
<ArcGISFormat>1.0</ArcGISFormat>
<ArcGISstyle>ISO 19139 Metadata Implementation Specification</ArcGISstyle>
<SyncOnce>FALSE</SyncOnce>
<DataProperties>
<itemProps>
<itemName Sync="FALSE">ORTHOS_2012</itemName>
<nativeExtBox>
<westBL Sync="TRUE">417500.000000</westBL>
<eastBL Sync="TRUE">570000.000000</eastBL>
<southBL Sync="TRUE">2062500.000000</southBL>
<northBL Sync="TRUE">2197500.000000</northBL>
<exTypeCode Sync="TRUE">1</exTypeCode>
</nativeExtBox>
<imsContentType Sync="TRUE">002</imsContentType>
</itemProps>
<coordRef>
<type Sync="TRUE">Projected</type>
<geogcsn Sync="TRUE">GCS_North_American_1983</geogcsn>
<csUnits Sync="TRUE">Linear Unit: Foot_US (0.304801)</csUnits>
<projcsn Sync="TRUE">NAD_1983_StatePlane_Indiana_East_FIPS_1301_Feet</projcsn>
<peXml Sync="TRUE">&lt;ProjectedCoordinateSystem xsi:type='typens:ProjectedCoordinateSystem' xmlns:xsi='http://www.w3.org/2001/XMLSchema-instance' xmlns:xs='http://www.w3.org/2001/XMLSchema' xmlns:typens='http://www.esri.com/schemas/ArcGIS/10.0'&gt;&lt;WKT&gt;PROJCS[&amp;quot;NAD_1983_StatePlane_Indiana_East_FIPS_1301_Feet&amp;quot;,GEOGCS[&amp;quot;GCS_North_American_1983&amp;quot;,DATUM[&amp;quot;D_North_American_1983&amp;quot;,SPHEROID[&amp;quot;GRS_1980&amp;quot;,6378137.0,298.257222101]],PRIMEM[&amp;quot;Greenwich&amp;quot;,0.0],UNIT[&amp;quot;Degree&amp;quot;,0.0174532925199433]],PROJECTION[&amp;quot;Transverse_Mercator&amp;quot;],PARAMETER[&amp;quot;False_Easting&amp;quot;,328083.3333333333],PARAMETER[&amp;quot;False_Northing&amp;quot;,820208.3333333333],PARAMETER[&amp;quot;Central_Meridian&amp;quot;,-85.66666666666667],PARAMETER[&amp;quot;Scale_Factor&amp;quot;,0.9999666666666667],PARAMETER[&amp;quot;Latitude_Of_Origin&amp;quot;,37.5],UNIT[&amp;quot;Foot_US&amp;quot;,0.3048006096012192],AUTHORITY[&amp;quot;EPSG&amp;quot;,2965]]&lt;/WKT&gt;&lt;XOrigin&gt;-18119800&lt;/XOrigin&gt;&lt;YOrigin&gt;-45615400&lt;/YOrigin&gt;&lt;XYScale&gt;137246076.82899535&lt;/XYScale&gt;&lt;ZOrigin&gt;0&lt;/ZOrigin&gt;&lt;ZScale&gt;1&lt;/ZScale&gt;&lt;MOrigin&gt;0&lt;/MOrigin&gt;&lt;MScale&gt;1&lt;/MScale&gt;&lt;XYTolerance&gt;0.0032808333333333335&lt;/XYTolerance&gt;&lt;ZTolerance&gt;2&lt;/ZTolerance&gt;&lt;MTolerance&gt;2&lt;/MTolerance&gt;&lt;HighPrecision&gt;true&lt;/HighPrecision&gt;&lt;WKID&gt;2965&lt;/WKID&gt;&lt;/ProjectedCoordinateSystem&gt;</peXml>
</coordRef>
</DataProperties>
<SyncDate>20130103</SyncDate>
<SyncTime>14144700</SyncTime>
<ModDate>20130103</ModDate>
<ModTime>14144700</ModTime>
</Esri>
<mdLang>
<languageCode value="eng">
</languageCode>
<countryCode Sync="TRUE" value="USA">
</countryCode>
</mdLang>
<mdChar>
<CharSetCd value="004">
</CharSetCd>
</mdChar>
<mdHrLv>
<ScopeCd value="005">
</ScopeCd>
</mdHrLv>
<mdHrLvName Sync="TRUE">dataset</mdHrLvName>
<mdContact>
<rpOrgName>Indiana Office of Information Technology</rpOrgName>
<rpPosName>State of Indiana GIS Officer</rpPosName>
<rpCntInfo>
<cntPhone>
<voiceNum>(317) 234-5889</voiceNum>
<faxNum>(317) 234-0917</faxNum>
</cntPhone>
<cntAddress>
<delPoint>100 North Senate Ave., Room N551</delPoint>
<city>Indianapolis</city>
<adminArea>IN</adminArea>
<postCode>46204</postCode>
<country>US</country>
</cntAddress>
<cntHours>8:00 a.m. to 4:000 p.m. Monday thru Friday</cntHours>
</rpCntInfo>
<role>
<RoleCd value="007">
</RoleCd>
</role>
</mdContact>
<mdDateSt Sync="TRUE">20130103</mdDateSt>
<mdStanName>ArcGIS Metadata</mdStanName>
<mdStanVer>1.0</mdStanVer>
<distInfo>
<distributor>
<distorCont>
<rpOrgName>Indiana Office of Information Technology</rpOrgName>
<rpPosName>State of Indiana GIS Officer</rpPosName>
<rpCntInfo>
<cntPhone>
<voiceNum>(317) 234-5889</voiceNum>
<faxNum>(317) 234-0917</faxNum>
</cntPhone>
<cntAddress>
<delPoint>100 North Senate Ave., Room N551</delPoint>
<city>Indianapolis</city>
<adminArea>IN</adminArea>
<postCode>46204</postCode>
<country>US</country>
</cntAddress>
<cntHours>8:00 a.m. to 4:000 p.m. Monday thru Friday</cntHours>
</rpCntInfo>
<role>
<RoleCd value="005">
</RoleCd>
</role>
</distorCont>
<distorOrdPrc>
<resFees>None.</resFees>
</distorOrdPrc>
<distorFormat>
<formatName>TIFF</formatName>
<formatVer>
</formatVer>
</distorFormat>
<distorTran>
<transSize>100</transSize>
</distorTran>
</distributor>
<distFormat>
<formatName Sync="FALSE">Raster Dataset</formatName>
</distFormat>
</distInfo>
<dataIdInfo>
<idCitation>
<resTitle Sync="FALSE">GISRASTER.SDE.ORTHOS_2012</resTitle>
<date>
<pubDate>2012-07-20T00:00:00</pubDate>
</date>
<resEd>IN 2012 Statewide East TIF 6inch</resEd>
<citRespParty>
<rpOrgName>Indiana Office of Information Technology</rpOrgName>
<role>
<RoleCd value="006">
</RoleCd>
</role>
</citRespParty>
<presForm>
<PresFormCd value="005">
</PresFormCd>
</presForm>
</idCitation>
<idAbs>TASK NAME: 2012 Indiana Statewide Imagery and LiDAR Program The Indiana Statewide Imagery and LiDAR project includes data captured at the following specifications: New 1 = 200 scale 4-band orthoimagery (TIF and ECW formats) at a 1-foot pixel resolution for all Indiana counties New 1 = 100 scale 4-band orthoimagery (TIF and ECW formats) at a 0.5-foot pixel resolution for the following Indiana counties flown in 2011: Marion, St. Joseph, Elkhart, Kosciusko, Bartholomew, and Harrison New Statewide LiDAR data at a 1.5-meter average post spacing for all Indiana counties, except: Porter, Steuben, Noble, De Kalb, Allen, Madison, Delaware, Hendricks, Marion, Hancock, Morgan, Johnson, Shelby, Monroe, and portions of Vermillion, Parke, Vigo, Clay, Sullivan, Knox, Gibson, and Posey. The project is divided into three geographic areas: Area 1 2011 - Indiana central counties: St. Joseph, Elkhart, Starke, Marshall, Kosciusko, Pulaski, Fulton, Cass, Miami, Wabash, Carroll, Howard, Clinton, Tipton, Boone, Hendricks, Marion, Morgan, Johnson, Monroe, Brown, Bartholomew, Lawrence, Jackson, Orange, Washington, Crawford, and Harrison. Area 2 2012 - Indiana eastern counties: LaGrange, Steuben, Noble, DeKalb, Whitley, Allen, Huntington, Wells, Adams, Grant, Blackford, Jay, Hamilton, Madison, Delaware, Randolph, Hancock, Henry, Wayne, Shelby, Rush, Fayette, Union, Decatur, Franklin, Jennings, Ripley, Dearborn, Ohio, Scott, Jefferson, Switzerland, Clark, and Floyd. Area 3 Scheduled for 2013 - Indiana western counties: Lake, Porter, LaPorte, Newton, Jasper, Benton, White, Warren, Tippecanoe, Fountain, Montgomery, Vermillion, Parke, Putnam, Vigo, Clay, Owen, Sullivan, Greene, Knox, Daviess, Martin, Gibson, Pike, Dubois, Posey, Vanderburgh, Warrick, Spencer, and Perry. Area 1 data was acquired in 2011. Area 2 data was acquired in 2012. According to the scope of this project, additional data collection is scheduled for Area 3 in 2013. Projection Reference: EPSG2965: NAD83 Indiana East (ftUS) and EPSG2966: NAD83 Indiana West (ftUS). Note: The ground control survey performed to support the Orthophotography and LiDAR data used the NAD 1983 NSRS2007 (ftUS) projection. To facilitate usability by multiple software versions the Orthophotography and LiDAR is only referenced to NAD 83, and the file projection/header information was written to the files using ERDAS IMAGINE.</idAbs>
<idPurp>The State of Indiana's goal is to develop and/or update certain geospatial data sets for use by state government agencies, other levels of government,...</idPurp>
<idStatus>
<ProgCd value="001">
</ProgCd>
</idStatus>
<idPoC>
<rpOrgName>Indiana Office of Information Technology</rpOrgName>
<rpPosName>State of Indiana GIS Officer</rpPosName>
<rpCntInfo>
<cntPhone>
<voiceNum>(317) 234-5889</voiceNum>
<faxNum>(317) 234-0917</faxNum>
</cntPhone>
<cntAddress>
<delPoint>100 North Senate Ave. Room N551</delPoint>
<city>Indianapolis</city>
<adminArea>IN</adminArea>
<postCode>46204</postCode>
<country>US</country>
</cntAddress>
<cntHours>8:00 a.m. to 4:00 p.m. Monday thru Friday</cntHours>
</rpCntInfo>
<role>
<RoleCd value="007">
</RoleCd>
</role>
</idPoC>
<resMaint>
<maintFreq>
<MaintFreqCd value="009">
</MaintFreqCd>
</maintFreq>
</resMaint>
<placeKeys>
<keyword>United States</keyword>
<keyword>Indiana Statewide</keyword>
<keyword>Indiana</keyword>
</placeKeys>
<themeKeys>
<keyword>Imagery</keyword>
<keyword>Raster</keyword>
<keyword>Orthophoto</keyword>
</themeKeys>
<searchKeys>
<keyword>Imagery</keyword>
<keyword>Raster</keyword>
<keyword>Orthophoto</keyword>
<keyword>United States</keyword>
<keyword>Indiana Statewide</keyword>
<keyword>Indiana</keyword>
</searchKeys>
<resConst>
<LegConsts>
<useLimit>Due to the easily alterable nature of electronic media, files, documents, and other deliverables, The State of Indiana and it’s Contractor, Woolpert, Inc. makes no warranties, either expressed or implied, with respect to the accuracy, completeness, merchantability, or fitness for any particular purpose, including, but not limited to, use of any/all data as described within this metadata file, by any user of this data. Any use will be at the end-user’s sole risk.</useLimit>
<othConsts>No restrictions apply to this data.</othConsts>
</LegConsts>
</resConst>
<resConst>
<SecConsts>
<class>
<ClasscationCd value="001">
</ClasscationCd>
</class>
<classSys>Unclassified</classSys>
<handDesc>Unclassified</handDesc>
</SecConsts>
</resConst>
<resConst>
<Consts>
<useLimit>Ownership of the data products resides with the State of Indiana. All Orthophotography, LiDAR and ancillary data products produced through this contract are public domain data. These data represent a public version of the data set and hold no distribution restrictions.</useLimit>
</Consts>
</resConst>
<spatRpType>
<SpatRepTypCd value="002">
</SpatRepTypCd>
</spatRpType>
<dataLang>
<languageCode value="eng">
</languageCode>
<countryCode Sync="TRUE" value="USA">
</countryCode>
</dataLang>
<dataChar>
<CharSetCd value="004">
</CharSetCd>
</dataChar>
<tpCat>
<TopicCatCd value="010">
</TopicCatCd>
</tpCat>
<envirDesc Sync="FALSE">ESRI ArcGIS 10.0.5.4400</envirDesc>
<dataExt>
<geoEle>
<GeoBndBox>
<westBL>-86.273802</westBL>
<eastBL>-84.70763</eastBL>
<southBL>38.153285</southBL>
<northBL>41.781477</northBL>
</GeoBndBox>
</geoEle>
</dataExt>
<dataExt>
<geoEle>
<GeoBndBox>
<exTypeCode>true</exTypeCode>
<westBL>-85.34316</westBL>
<eastBL>-84.786531</eastBL>
<southBL>40.907467</southBL>
<northBL>41.280858</northBL>
</GeoBndBox>
</geoEle>
</dataExt>
<dataExt>
<exDesc>ground condition</exDesc>
<tempEle>
<TempExtent>
<exTemp>
<TM_Instant gmlID="ID0EMLAC">
<tmPosition>2012-02-17T00:00:00</tmPosition>
</TM_Instant>
</exTemp>
</TempExtent>
</tempEle>
<tempEle>
<TempExtent>
<exTemp>
<TM_Instant gmlID="ID0EINAC">
<tmPosition>2012-03-10T00:00:00</tmPosition>
</TM_Instant>
</exTemp>
</TempExtent>
</tempEle>
<tempEle>
<TempExtent>
<exTemp>
<TM_Instant gmlID="ID0EOKAC">
<tmPosition>2012-02-26T00:00:00</tmPosition>
</TM_Instant>
</exTemp>
</TempExtent>
</tempEle>
<tempEle>
<TempExtent>
<exTemp>
<TM_Instant gmlID="ID0EKMAC">
<tmPosition>2012-03-07T00:00:00</tmPosition>
</TM_Instant>
</exTemp>
</TempExtent>
</tempEle>
<tempEle>
<TempExtent>
<exTemp>
<TM_Instant gmlID="ID0EBJAC">
<tmPosition>2012-03-14T00:00:00</tmPosition>
</TM_Instant>
</exTemp>
</TempExtent>
</tempEle>
<tempEle>
<TempExtent>
<exTemp>
<TM_Instant gmlID="ID0E4KAC">
<tmPosition>2012-02-20T00:00:00</tmPosition>
</TM_Instant>
</exTemp>
</TempExtent>
</tempEle>
<tempEle>
<TempExtent>
<exTemp>
<TM_Instant gmlID="ID0EQJAC">
<tmPosition>2012-03-13T00:00:00</tmPosition>
</TM_Instant>
</exTemp>
</TempExtent>
</tempEle>
<tempEle>
<TempExtent>
<exTemp>
<TM_Instant gmlID="ID0EZMAC">
<tmPosition>2012-03-06T00:00:00</tmPosition>
</TM_Instant>
</exTemp>
</TempExtent>
</tempEle>
<tempEle>
<TempExtent>
<exTemp>
<TM_Instant gmlID="ID0E6JAC">
<tmPosition>2012-02-29T00:00:00</tmPosition>
</TM_Instant>
</exTemp>
</TempExtent>
</tempEle>
<tempEle>
<TempExtent>
<exTemp>
<TM_Instant gmlID="ID0E2LAC">
<tmPosition>2012-03-11T00:00:00</tmPosition>
</TM_Instant>
</exTemp>
</TempExtent>
</tempEle>
<geoEle>
</geoEle>
</dataExt>
<suppInfo>CONTRACTOR: Woolpert, Inc. Woolpert Order No. 72134</suppInfo>
<dataExt>
<geoEle>
<GeoBndBox esriExtentType="search">
<exTypeCode Sync="TRUE">1</exTypeCode>
<westBL Sync="TRUE">-85.343160</westBL>
<eastBL Sync="TRUE">-84.786531</eastBL>
<northBL Sync="TRUE">41.280858</northBL>
<southBL Sync="TRUE">40.907467</southBL>
</GeoBndBox>
</geoEle>
</dataExt>
<idCredit>imap</idCredit>
</dataIdInfo>
<mdConst>
<SecConsts>
<class>
<ClasscationCd value="001">
</ClasscationCd>
</class>
<classSys>Unclassified</classSys>
<handDesc>Unclassified</handDesc>
</SecConsts>
</mdConst>
<dqInfo>
<dqScope>
<scpLvl>
<ScopeCd value="005">
</ScopeCd>
</scpLvl>
</dqScope>
<report type="DQCompOm">
<measDesc>The orthoimagery is visually inspected by Woolpert, Inc. for completeness.</measDesc>
</report>
<report type="DQConcConsis">
<measDesc>All formatted data are validated using commercial GIS software to ensure proper formatting and loading prior to delivery.</measDesc>
</report>
<report type="DQAbsExtPosAcc">
<measDesc>The orthoimagery meets the National Map Accuracy Standards for 1=100 scale.</measDesc>
<evalMethDesc>All control points and test points that are visible on the aerial photography are visited on screen and the X, Y coordinates are displayed. This information is cross-referenced with the X, Y information provided by the ground survey.</evalMethDesc>
<measResult>
<QuanResult>
<quanVal>0</quanVal>
</QuanResult>
</measResult>
</report>
<dataLineage>
<prcStep>
<stepDesc>The Leica ADS80-SH81/82 Airborne Digital Sensor is a push-broom geometry sensor, collecting 12-bit data with 12,000 pixel swath coverage with up to a 5-centimeter spatial resolution. The sensor is capable of collecting multiple spectral bands and angles simultaneously. Leica’s ADS80 collects seven bands of imagery simultaneously: three panchromatic CCD lines capture information in the forward, nadir and backward views from the aircraft, while four multispectral lines capture data in the red, green, blue, and near color infrared band. The imagery for this task order was acquired using the Leica ADS80-SH81/82 multispectral scanner. The ADS80-SH81/82 utilizes the Leica’s IPAS20 direct positioning and orientation system that is based on airborne GPS and inertial measurement unit (IMU) technology. The IPAS20 data were reduced using Leica’s IPAS Pro software package (V1.3). All of the source imagery was processed using the Leica XPRO (V5.0.1) software package. This package provides the capability to perform digital image processing, aerial triangulation, and image rectification. The strips of imagery were ortho rectified to newly collected LiDAR digtial elevation model (DEM) data. The individual rectified strips of ortho rectified imagery were then mosaicked together to form a seamless imagery database over the entire task order area using the OrthoVista software (V4.5) by Inpho GmbH. The final digital orthophoto imagery (DOI) were extracted using OrthoVista.</stepDesc>
<stepDateTm>2012-02-17T00:00:00</stepDateTm>
<stepProc>
<rpOrgName>Woolpert, Inc.</rpOrgName>
<rpPosName>Geospatial Services</rpPosName>
<rpCntInfo>
<cntPhone>
<voiceNum>(937) 461-5660</voiceNum>
<faxNum>(937) 461-0743</faxNum>
</cntPhone>
<cntAddress>
<delPoint>4454 Idea Center Blvd.</delPoint>
<city>Dayton</city>
<adminArea>OH</adminArea>
<postCode>45430</postCode>
<country>US</country>
</cntAddress>
<cntHours>8:00 a.m. to 5:00 p.m. Eastern Time</cntHours>
</rpCntInfo>
<role>
<RoleCd value="009">
</RoleCd>
</role>
</stepProc>
</prcStep>
<dataSource>
<srcDesc>Digital aerial imagery was acquired to produce 4-band, 8-bit ortho-imagery. This imagery was orthorectified to the terrain data and the ground control survey.</srcDesc>
<srcCitatn>
<resTitle>Indiana Statewide Imagery and LiDAR Program</resTitle>
<resAltTitle>Orthophoto</resAltTitle>
<date>
<pubDate>2012-04-30T00:00:00</pubDate>
</date>
<citRespParty>
<rpOrgName>Woolpert, Inc.</rpOrgName>
<role>
<RoleCd value="006">
</RoleCd>
</role>
</citRespParty>
<presForm>
<PresFormCd value="005">
</PresFormCd>
</presForm>
</srcCitatn>
<srcExt>
<exDesc>ground condition</exDesc>
<tempEle>
<TempExtent>
<exTemp>
<TM_Instant gmlID="ID0EIEAE">
<tmPosition>2012-02-17T00:00:00</tmPosition>
</TM_Instant>
</exTemp>
</TempExtent>
</tempEle>
</srcExt>
</dataSource>
</dataLineage>
</dqInfo>
<spatRepInfo>
<Georect>
<numDims>2</numDims>
<axisDimension type="002">
<dimSize>305000</dimSize>
<dimResol>
<value uom="Foot_US">0.500000</value>
</dimResol>
</axisDimension>
<axisDimension type="003">
<dimSize>1</dimSize>
</axisDimension>
<axisDimension type="001">
<dimSize>270000</dimSize>
<dimResol>
<value uom="Foot_US">0.500000</value>
</dimResol>
</axisDimension>
<cellGeo>
<CellGeoCd value="002">
</CellGeoCd>
</cellGeo>
<tranParaAv>true</tranParaAv>
<chkPtAv>false</chkPtAv>
<cornerPts gmlID="ID0ELGAE">
<pos>417499.999980 2062500.000011</pos>
</cornerPts>
<cornerPts gmlID="ID0E4GAE">
<pos>569999.999994 2062500.000011</pos>
</cornerPts>
<cornerPts gmlID="ID0EXGAE">
<pos>569999.999994 2197500.000009</pos>
</cornerPts>
<cornerPts gmlID="ID0ERGAE">
<pos>417499.999980 2197500.000009</pos>
</cornerPts>
<centerPt gmlID="ID0EDHAE">
<pos>493749.999987 2130000.000010</pos>
</centerPt>
<ptInPixel>
<PixOrientCd value="001">
</PixOrientCd>
</ptInPixel>
</Georect>
</spatRepInfo>
<refSysInfo>
<RefSystem>
<refSysID>
<identCode code="2965">
</identCode>
<idCodeSpace Sync="TRUE">EPSG</idCodeSpace>
<idVersion Sync="TRUE">7.4.1</idVersion>
</refSysID>
</RefSystem>
</refSysInfo>
<contInfo>
<ImgDesc>
<contentTyp>
<ContentTypCd value="001">
</ContentTypCd>
</contentTyp>
<covDim>
<Band>
<dimDescrp>Band_1</dimDescrp>
<maxVal>255</maxVal>
<minVal>0</minVal>
<valUnit>
<UOM gmlID="ID0EDJAE">
<gmlIdent codeSpace="GML_UomSymbol">Unified Code of Units of Measure</gmlIdent>
<unitSymbol codeSpace="http://aurora.regenstrief.org/UCUM">Foot_US</unitSymbol>
</UOM>
</valUnit>
<bitsPerVal>8</bitsPerVal>
</Band>
</covDim>
</ImgDesc>
</contInfo>
<spdoinfo>
<rastinfo>
<rasttype Sync="TRUE">Pixel</rasttype>
<rowcount Sync="TRUE">270000</rowcount>
<colcount Sync="TRUE">305000</colcount>
<rastxsz Sync="TRUE">0.500000</rastxsz>
<rastysz Sync="TRUE">0.500000</rastysz>
<rastbpp Sync="TRUE">8</rastbpp>
<vrtcount Sync="TRUE">1</vrtcount>
<rastorig Sync="TRUE">Upper Left</rastorig>
<rastcmap Sync="TRUE">FALSE</rastcmap>
<rastcomp Sync="TRUE">LZ77</rastcomp>
<rastband Sync="TRUE">4</rastband>
<rastdtyp Sync="TRUE">pixel codes</rastdtyp>
<rastifor Sync="TRUE">SDR</rastifor>
<rastplyr Sync="TRUE">TRUE</rastplyr>
</rastinfo>
</spdoinfo>
<spref>
<horizsys>
<planar>
<planci>
<plance Sync="TRUE">row and column</plance>
<coordrep>
<absres Sync="TRUE">0.500000</absres>
<ordres Sync="TRUE">0.500000</ordres>
</coordrep>
</planci>
</planar>
</horizsys>
</spref>
</metadata>
