<?xml version="1.0" encoding="UTF-8" standalone="no"?>
<metadata xml:lang="en">
<Esri>
<CreaDate>20121029</CreaDate>
<CreaTime>15495900</CreaTime>
<ArcGISFormat>1.0</ArcGISFormat>
<ArcGISstyle>ISO 19139 Metadata Implementation Specification</ArcGISstyle>
<SyncOnce>FALSE</SyncOnce>
<DataProperties>
<itemProps>
<itemName Sync="FALSE">AERIALS_2009</itemName>
<imsContentType Sync="TRUE" export="False">002</imsContentType>
<nativeExtBox>
<westBL Sync="TRUE">415000.000000</westBL>
<eastBL Sync="TRUE">570000.000000</eastBL>
<southBL Sync="TRUE">2062500.000000</southBL>
<northBL Sync="TRUE">2197500.000000</northBL>
<exTypeCode Sync="TRUE">1</exTypeCode>
</nativeExtBox>
</itemProps>
<coordRef>
<type Sync="TRUE">Projected</type>
<geogcsn Sync="TRUE">GCS_North_American_1983</geogcsn>
<csUnits Sync="TRUE">Linear Unit: Foot_US (0.304801)</csUnits>
<projcsn Sync="TRUE">NAD_1983_StatePlane_Indiana_East_FIPS_1301_Feet</projcsn>
<peXml Sync="TRUE">&lt;ProjectedCoordinateSystem xsi:type='typens:ProjectedCoordinateSystem' xmlns:xsi='http://www.w3.org/2001/XMLSchema-instance' xmlns:xs='http://www.w3.org/2001/XMLSchema' xmlns:typens='http://www.esri.com/schemas/ArcGIS/10.1'&gt;&lt;WKT&gt;PROJCS[&amp;quot;NAD_1983_StatePlane_Indiana_East_FIPS_1301_Feet&amp;quot;,GEOGCS[&amp;quot;GCS_North_American_1983&amp;quot;,DATUM[&amp;quot;D_North_American_1983&amp;quot;,SPHEROID[&amp;quot;GRS_1980&amp;quot;,6378137.0,298.257222101]],PRIMEM[&amp;quot;Greenwich&amp;quot;,0.0],UNIT[&amp;quot;Degree&amp;quot;,0.0174532925199433]],PROJECTION[&amp;quot;Transverse_Mercator&amp;quot;],PARAMETER[&amp;quot;False_Easting&amp;quot;,328083.3333333333],PARAMETER[&amp;quot;False_Northing&amp;quot;,820208.3333333333],PARAMETER[&amp;quot;Central_Meridian&amp;quot;,-85.66666666666667],PARAMETER[&amp;quot;Scale_Factor&amp;quot;,0.9999666666666667],PARAMETER[&amp;quot;Latitude_Of_Origin&amp;quot;,37.5],UNIT[&amp;quot;Foot_US&amp;quot;,0.3048006096012192],AUTHORITY[&amp;quot;EPSG&amp;quot;,2965]]&lt;/WKT&gt;&lt;XOrigin&gt;-18119800&lt;/XOrigin&gt;&lt;YOrigin&gt;-45615400&lt;/YOrigin&gt;&lt;XYScale&gt;137246076.82899535&lt;/XYScale&gt;&lt;ZOrigin&gt;0&lt;/ZOrigin&gt;&lt;ZScale&gt;1&lt;/ZScale&gt;&lt;MOrigin&gt;0&lt;/MOrigin&gt;&lt;MScale&gt;1&lt;/MScale&gt;&lt;XYTolerance&gt;0.0032808333333333331&lt;/XYTolerance&gt;&lt;ZTolerance&gt;2&lt;/ZTolerance&gt;&lt;MTolerance&gt;2&lt;/MTolerance&gt;&lt;HighPrecision&gt;true&lt;/HighPrecision&gt;&lt;WKID&gt;2244&lt;/WKID&gt;&lt;LatestWKID&gt;2965&lt;/LatestWKID&gt;&lt;/ProjectedCoordinateSystem&gt;</peXml>
</coordRef>
</DataProperties>
<SyncDate>20140403</SyncDate>
<SyncTime>09293700</SyncTime>
<ModDate>20140403</ModDate>
<ModTime>09293700</ModTime>
<ArcGISProfile>ISO19139</ArcGISProfile>
</Esri>
<dataIdInfo>
<envirDesc Sync="FALSE">Esri ArcGIS 10.2.1.3497</envirDesc>
<dataLang>
<languageCode Sync="TRUE" value="eng">
</languageCode>
<countryCode Sync="TRUE" value="USA">
</countryCode>
</dataLang>
<idCitation>
<resTitle Sync="FALSE">GISRASTER.SDE.AERIALS_2009</resTitle>
<presForm>
<PresFormCd Sync="TRUE" value="011">
</PresFormCd>
</presForm>
<citRespParty>
<rpOrgName>Allen County iMap</rpOrgName>
<role>
<RoleCd value="006">
</RoleCd>
</role>
</citRespParty>
<citRespParty>
<rpOrgName>Department of Information Technology</rpOrgName>
<rpPosName>GIS Coordinator</rpPosName>
<role>
<RoleCd value="007">
</RoleCd>
</role>
<rpCntInfo>
<cntAddress addressType="both">
<delPoint>200 East Berry Street, Suite 415</delPoint>
<city>Fort Wayne</city>
<adminArea>IN</adminArea>
<postCode>46802</postCode>
<eMailAdd>imapadmin@allencounty.us</eMailAdd>
<country>US</country>
</cntAddress>
<cntPhone>
<voiceNum tddtty="">260-449-3608</voiceNum>
<faxNum>260-449-7568</faxNum>
</cntPhone>
<cntHours>8:00 AM - 5:00 PM</cntHours>
<cntInstr>M - F, except for holidays</cntInstr>
</rpCntInfo>
</citRespParty>
</idCitation>
<spatRpType>
<SpatRepTypCd Sync="TRUE" value="002">
</SpatRepTypCd>
</spatRpType>
<dataExt>
<geoEle>
<GeoBndBox esriExtentType="search">
<exTypeCode Sync="TRUE">1</exTypeCode>
<westBL Sync="TRUE">-85.352205</westBL>
<eastBL Sync="TRUE">-84.786531</eastBL>
<northBL Sync="TRUE">41.280883</northBL>
<southBL Sync="TRUE">40.907467</southBL>
</GeoBndBox>
</geoEle>
</dataExt>
<idPoC>
<rpOrgName>Department of Information Technology</rpOrgName>
<rpPosName>GIS Coordinator</rpPosName>
<role>
<RoleCd value="007">
</RoleCd>
</role>
<rpCntInfo>
<cntAddress addressType="both">
<delPoint>200 East Berry Street, Suite 415</delPoint>
<city>Fort Wayne</city>
<adminArea>IN</adminArea>
<postCode>46802</postCode>
<eMailAdd>imapadmin@allencounty.us</eMailAdd>
<country>US</country>
</cntAddress>
<cntPhone>
<voiceNum tddtty="">260-449-3608</voiceNum>
<faxNum>260-449-7568</faxNum>
</cntPhone>
<cntHours>8:00 AM - 5:00 PM</cntHours>
<cntInstr>M - F, except for holidays</cntInstr>
</rpCntInfo>
</idPoC>
<dataChar>
<CharSetCd value="004">
</CharSetCd>
</dataChar>
<themeKeys>
<keyword>Imagery</keyword>
<keyword>Orthophoto</keyword>
<keyword>Raster</keyword>
</themeKeys>
<placeKeys>
<keyword>Allen County</keyword>
<keyword>Indiana</keyword>
<keyword>United States</keyword>
</placeKeys>
<idPurp>A digital orthophoto is a geometrically accurate photographic record of landscape conditions at the time of the corresponding aerial photography. As such, the...</idPurp>
<idAbs>A digital orthophoto (DO) is a digital raster image of an aerial photograph which, through a process of differential rectification, has been brought to an accurate, uniform scale with a specified tolerance. The differential rectification process involves relating the digital photo imagery to terrain coordinates and elevations (e.g., a digital terrain model) so as to correct for scale variation due to terrain relief and image displacement due to the angular offsets of the aerial camera at the time of exposure. A digital orthophoto is essentially the image-based equivalent of a photogrammetrically compiled planimetric map. Allen County .5' Pixel Orthophotography</idAbs>
<tpCat>
<TopicCatCd value="010">
</TopicCatCd>
</tpCat>
<searchKeys>
<keyword>2009</keyword>
</searchKeys>
<idCredit>imap</idCredit>
<resConst>
<Consts>
<useLimit>none</useLimit>
</Consts>
</resConst>
</dataIdInfo>
<mdLang>
<languageCode Sync="TRUE" value="eng">
</languageCode>
<countryCode Sync="TRUE" value="USA">
</countryCode>
</mdLang>
<mdChar>
<CharSetCd Sync="TRUE" value="004">
</CharSetCd>
</mdChar>
<distInfo>
<distFormat>
<formatName Sync="FALSE">Raster Dataset</formatName>
</distFormat>
</distInfo>
<mdHrLv>
<ScopeCd Sync="TRUE" value="005">
</ScopeCd>
</mdHrLv>
<mdHrLvName Sync="TRUE">dataset</mdHrLvName>
<refSysInfo>
<RefSystem dimension="">
<refSysID>
<identCode Sync="TRUE" code="2965" value="2965">
</identCode>
<idCodeSpace Sync="TRUE">EPSG</idCodeSpace>
<idVersion Sync="TRUE">8.2.6</idVersion>
</refSysID>
</RefSystem>
</refSysInfo>
<spdoinfo>
<rastinfo>
<rasttype Sync="TRUE">Pixel</rasttype>
<rowcount Sync="TRUE">270000</rowcount>
<colcount Sync="TRUE">310000</colcount>
<rastxsz Sync="TRUE">0.500000</rastxsz>
<rastysz Sync="TRUE">0.500000</rastysz>
<rastbpp Sync="TRUE">8</rastbpp>
<vrtcount Sync="TRUE">1</vrtcount>
<rastorig Sync="TRUE">Upper Left</rastorig>
<rastcmap Sync="TRUE">FALSE</rastcmap>
<rastcomp Sync="TRUE">LZ77</rastcomp>
<rastband Sync="TRUE">3</rastband>
<rastdtyp Sync="TRUE">pixel codes</rastdtyp>
<rastifor Sync="TRUE">SDR</rastifor>
<rastplyr Sync="TRUE">TRUE</rastplyr>
</rastinfo>
</spdoinfo>
<spref>
<horizsys>
<planar>
<planci>
<plance Sync="TRUE">row and column</plance>
<coordrep>
<absres Sync="TRUE">0.500000</absres>
<ordres Sync="TRUE">0.500000</ordres>
</coordrep>
</planci>
</planar>
</horizsys>
</spref>
<mdDateSt Sync="TRUE">20140403</mdDateSt>
<mdContact>
<rpOrgName>Department of Information Technology</rpOrgName>
<rpPosName>GIS Coordinator</rpPosName>
<role>
<RoleCd value="007">
</RoleCd>
</role>
<rpCntInfo>
<cntAddress addressType="both">
<delPoint>200 East Berry Street, Suite 415</delPoint>
<city>Fort Wayne</city>
<adminArea>IN</adminArea>
<postCode>46802</postCode>
<eMailAdd>imapadmin@allencounty.us</eMailAdd>
<country>US</country>
</cntAddress>
<cntPhone>
<voiceNum tddtty="">260-449-3608</voiceNum>
<faxNum>260-449-7568</faxNum>
</cntPhone>
<cntHours>8:00 AM - 5:00 PM</cntHours>
<cntInstr>M - F, except for holidays</cntInstr>
</rpCntInfo>
</mdContact>
<dqInfo>
<dataLineage>
<prcStep>
<stepProc>
<rpOrgName>Woolpert, Inc.</rpOrgName>
<rpPosName>Geospatial Services</rpPosName>
<role>
<RoleCd value="009">
</RoleCd>
</role>
<rpCntInfo>
<cntAddress addressType="both">
<delPoint>4454 Idea Center Blvd.</delPoint>
<city>Dayton</city>
<adminArea>OH</adminArea>
<postCode>45430</postCode>
<country>US</country>
</cntAddress>
<cntPhone>
<voiceNum tddtty="">937-461-5660</voiceNum>
<faxNum>937-461-0743</faxNum>
</cntPhone>
<cntHours>8:00 AM - 4:00 PM</cntHours>
<cntInstr>M - F, except for holidays</cntInstr>
</rpCntInfo>
</stepProc>
</prcStep>
</dataLineage>
</dqInfo>
</metadata>
