<?xml version="1.0" encoding="UTF-8" standalone="no"?>
<metadata>
<idinfo>
<citation>
<citeinfo>
<origin>Kucera International Inc.</origin>
<pubdate>Unknown</pubdate>
<title Sync="FALSE">AERIALS_2006</title>
<edition>1.0</edition>
<geoform Sync="TRUE">SDE raster digital data</geoform>
<pubinfo>
<pubplace>Fort Wayne, Indiana</pubplace>
<publish>Allen County iMap</publish>
</pubinfo>
<ftname Sync="FALSE">AERIALS_2006</ftname>
<onlink Sync="FALSE">withheld</onlink>
</citeinfo>
</citation>
<descript>
<abstract>This metadata record describes the digital ortho imagery for Allen County, IN. This 1200 scale imagery is comprised of natural color orthophotography with a GSD (Ground Sample Distance) of 0.5'. Imagery was collected with the Leica ADS40 digital sensor and processed with Leica GPro software</abstract>
<purpose>A digital orthophoto is a geometrically accurate photographic record of landscape conditions at the time of the corresponding aerial photography. As such, the digital orthophoto is useful for a variety of applications, such as environmental monitoring, facility engineering/maintenance, city/county planning, property line review, etc. The digital orthophoto can be used alone or as a raster basemap for corresponding vector line mapping.</purpose>
<supplinf>The bounding coordinates in this metadata file represent the bounding coordinates for all image tiles in project area as a whole, not an individual tile. Aerial image, ADS40, Basemap, Digital orthophoto, Orthophoto</supplinf>
<langdata Sync="TRUE">en</langdata>
</descript>
<timeperd>
<timeinfo>
<mdattim>
<sngdate>
<caldate>20060413</caldate>
</sngdate>
<sngdate>
<caldate>20060415</caldate>
</sngdate>
<sngdate>
<caldate>20060417</caldate>
</sngdate>
</mdattim>
</timeinfo>
<current>ground condition</current>
</timeperd>
<status>
<progress>Complete</progress>
<update>Unknown</update>
</status>
<spdom>
<bounding>
<westbc Sync="TRUE">-85.359447</westbc>
<eastbc Sync="TRUE">-84.779162</eastbc>
<northbc Sync="TRUE">41.287764</northbc>
<southbc Sync="TRUE">40.906040</southbc>
</bounding>
<lboundng>
<leftbc Sync="TRUE">413000.000000</leftbc>
<rightbc Sync="TRUE">572000.000000</rightbc>
<bottombc Sync="TRUE">2062000.000000</bottombc>
<topbc Sync="TRUE">2200000.000000</topbc>
</lboundng>
</spdom>
<keywords>
<theme>
<themekt>KI Thesaurus</themekt>
<themekey>imageryBaseMapsEarthCover</themekey>
</theme>
<place>
<placekt>GNIS</placekt>
<placekey>Allen County</placekey>
<placekey>Indiana</placekey>
</place>
</keywords>
<accconst>None</accconst>
<useconst>None</useconst>
<ptcontac>
<cntinfo>
<cntperp>
<cntper>Richard E. Bokern, Jr.</cntper>
<cntorg>Allen County iMap</cntorg>
</cntperp>
<cntpos>Principal iMap System Technician</cntpos>
<cntaddr>
<addrtype>mailing and physical</addrtype>
<address>1 East Main Street RM 630</address>
<city>Fort Wayne</city>
<state>IN</state>
<postal>46802</postal>
<country>US</country>
</cntaddr>
<cntvoice>260-449-7607</cntvoice>
<cntfax>260-449-7682</cntfax>
<cntemail>rick.bokern@co.allen.in.us</cntemail>
<hours>0800-1700 EST, M-F</hours>
</cntinfo>
</ptcontac>
<native Sync="FALSE">ESRI ArcCatalog 9.3.1.3000</native>
<natvform Sync="FALSE">Raster Dataset</natvform>
</idinfo>
<dataqual>
<logic>
Compliance with the accuracy standard was ensured by the placement of GPS ground control prior to the acquisition of aerial imagery. The following checks were performed:
1. The ground control and airborne GPS/INS data stream were validated through an aerotriangulation bundle adjustment using Leica's ORIMA and CAP-A software. The residuals of the adjustment met the required standards with the results fully outlined in an AT report supplied to the county.
2. Digital orthophotography was validated through a visual inspection of control points, edge matching and general image quality.
</logic>
<complete>
The following methods were used to ensure image quality:
1. Use of targeted ground control during image acquisition.
2. Use of GPS/INS during image acquisition.
3. Checking of controls against ortho product.
4. Post ortho accuracy approval checks for overall image quality (tone, color balance, etc.).
</complete>
<posacc>
<horizpa>
<horizpar>This image complies with ASPRS Class II standards. It has been tested at 95% confidence level to have an RMS positional displacement within 2.5 feet of well defined ground features in obscured areas. Does not apply to vertical surface features, such as structures, appearing in the digital orthophotography due to inherent lean. Tested horizontal RMSE on controls within the project area is 0.662 feet.</horizpar>
</horizpa>
<vertacc>
<vertaccr>There is no vertical component for orthos.</vertaccr>
</vertacc>
</posacc>
<lineage>
<srcinfo>
<srccite>
<citeinfo>
<origin>Kucera International Inc.</origin>
<pubdate>Unpublished material</pubdate>
<title>Aerial photography</title>
<edition>1.0</edition>
<geoform>raster digital data</geoform>
<pubinfo>
<pubplace>None</pubplace>
<publish>None</publish>
</pubinfo>
</citeinfo>
</srccite>
<srcscale>1200</srcscale>
<typesrc>disc</typesrc>
<srctime>
<timeinfo>
<mdattim>
<sngdate>
<caldate>20060413</caldate>
</sngdate>
<sngdate>
<caldate>20060415</caldate>
</sngdate>
<sngdate>
<caldate>20060417</caldate>
</sngdate>
</mdattim>
</timeinfo>
<srccurr>ground condition</srccurr>
</srctime>
<srccitea>IMG</srccitea>
<srccontr>The aerial imagery was captured with a Leica Geosystems ADS40 digital camera. The ADS40 uses a 'pushbroom' method of data collection with different sensors using forward, rearward and nadir orientations along planned flightlines. This results in one image per sensor for each flightline. The aerial images are used to AT the project and the production of orthophotos.</srccontr>
</srcinfo>
<srcinfo>
<srccite>
<citeinfo>
<origin>Rolling &amp; Hocevar</origin>
<pubdate>Unpublished material</pubdate>
<title>Ground control</title>
<edition>1.0</edition>
<geoform>Vector digital data</geoform>
<pubinfo>
<pubplace>None</pubplace>
<publish>None</publish>
</pubinfo>
</citeinfo>
</srccite>
<typesrc>disc</typesrc>
<srctime>
<timeinfo>
<rngdates>
<begdate>20060313</begdate>
<enddate>20060315</enddate>
</rngdates>
</timeinfo>
<srccurr>Ground condition</srccurr>
</srctime>
<srccitea>CONT</srccitea>
<srccontr>Targeted ground control is used to create a digital control file and control report as well as QC check of ortho accuracy. Predefined points (usually NGS) within the county are targeted, making the points visible in the photography. These points along with their precise coordinates are used in the AT process and to check the horizontal accuracy of the resulting orthophotos. 31 control points were targeted for use throughout the project area.</srccontr>
</srcinfo>
<srcinfo>
<srccite>
<citeinfo>
<origin>Kucera International Inc.</origin>
<pubdate>Unpublished material</pubdate>
<title>Digital elevation model</title>
<edition>1.0</edition>
<geoform>Vector digital data</geoform>
<pubinfo>
<pubplace>None</pubplace>
<publish>None</publish>
</pubinfo>
</citeinfo>
</srccite>
<typesrc>disc</typesrc>
<srctime>
<timeinfo>
<sngdate>
<caldate>2006</caldate>
</sngdate>
</timeinfo>
<srccurr>Ground condition</srccurr>
</srctime>
<srccitea>DEM</srccitea>
<srccontr>Source data consisted of LiDAR, DEM and DTM supplied to Kucera International by Allen County. Kucera updated the DEM in areas of major change. The updated DEM is used in the orthophoto production process.</srccontr>
</srcinfo>
<srcinfo>
<srccite>
<citeinfo>
<origin>Allen County</origin>
<pubdate>Unknown</pubdate>
<title>Tile definition</title>
<edition>1.0</edition>
<geoform>Vector digital data</geoform>
<pubinfo>
<pubplace>Fort Wayne, Indiana</pubplace>
<publish>Allen County iMap</publish>
</pubinfo>
</citeinfo>
</srccite>
<typesrc>disc</typesrc>
<srctime>
<timeinfo>
<sngdate>
<caldate>2006</caldate>
</sngdate>
</timeinfo>
<srccurr>Ground condition</srccurr>
</srctime>
<srccitea>TLDEF</srccitea>
<srccontr>The tile definition is used to cut orthorectified imagery into manageable, usable images. It was provided to Kucera by Allen County and references NAD83 SPCS Indiana East state plane coordinates. Each tile is 3000' X 3000'.</srccontr>
</srcinfo>
<srcinfo>
<srccite>
<citeinfo>
<origin>Kucera International Inc.</origin>
<pubdate>Unpublished material</pubdate>
<title>Orthorectified imagery</title>
<edition>1.0</edition>
<geoform>raster digital data</geoform>
<pubinfo>
<pubplace>None</pubplace>
<publish>None</publish>
</pubinfo>
</citeinfo>
</srccite>
<srcscale>1200</srcscale>
<typesrc>disc</typesrc>
<srctime>
<timeinfo>
<sngdate>
<caldate>2006</caldate>
</sngdate>
</timeinfo>
<srccurr>Ground condition</srccurr>
</srctime>
<srccitea>OIMG1</srccitea>
<srccontr>This first level of orthorectified images are the product of using the AT solution and the DEM in GPRO. They are large 4GB swaths that have yet to be mosaicked into manageable tiled orthos.</srccontr>
</srcinfo>
<srcinfo>
<srccite>
<citeinfo>
<origin>Kucera International Inc.</origin>
<pubdate>Unpublished material</pubdate>
<title>Tiled Orthophoto</title>
<edition>1.0</edition>
<geoform>raster digital data</geoform>
<pubinfo>
<pubplace>None</pubplace>
<publish>None</publish>
</pubinfo>
</citeinfo>
</srccite>
<srcscale>1200</srcscale>
<typesrc>disc, DVD or online</typesrc>
<srctime>
<timeinfo>
<sngdate>
<caldate>2006</caldate>
</sngdate>
</timeinfo>
<srccurr>Ground condition</srccurr>
</srctime>
<srccitea>OIMG2</srccitea>
<srccontr>The tiled orthophoto is the result of mosaicking orthorectified imagery and using the tile definition to cut into manageable, usable orthophotos.</srccontr>
</srcinfo>
<procstep>
<procdesc>At selected locations throughout the site, accurate GPS coordinates and elevations are surveyed and the points are marked with targets which will be visible in the aerial photography.</procdesc>
<srcused>withheld</srcused>
<procdate>2006March</procdate>
<srcprod>withheld</srcprod>
</procstep>
<procstep>
<procdesc>New digital, color aerial imagery of the site is acquired using the Leica ADS40 camera. Airborne GPS/IMU data is recorded along with the imagery</procdesc>
<srcused>withheld</srcused>
<procdate>2006April</procdate>
<srcprod>withheld</srcprod>
</procstep>
<procstep>
<procdesc>Imagery and GPS/IMU data is downloaded from disc on the plane to disc on the ground. GPS/IMU mission data is processed together with simultaneously collected ground-based GPS base station data in forward and reverse directions. This precisely determines the aerial camera's position and orientation in the terrain (project) coordinate system and allows for correct orientation of the imagery.</procdesc>
<srcused>withheld</srcused>
<procdate>2006</procdate>
<srcprod>withheld</srcprod>
</procstep>
<procstep>
<procdesc>Using the processed GPS/IMU data and correctly oriented imagery, a bundle adjustment is computed (AT) in Leica Geosystems ORIMA/CAP-A software.</procdesc>
<srcused>withheld</srcused>
<procdate>2006</procdate>
<srcprod>withheld</srcprod>
</procstep>
<procstep>
<procdesc>Orthorectified imagery is produced using Leica Geosystems GPRO software. They are large 4GB swaths that have yet to be mosaicked into manageable tiled orthos.</procdesc>
<srcused>withheld</srcused>
<procdate>2006</procdate>
<srcprod>withheld</srcprod>
</procstep>
<procstep>
<procdesc>Orthorectified imagery is mosaicked, locally color-balanced and cut to the tile definition boundaries using Stellacore OrthoVista software. The tiled orthos are checked for accuracy against the surveyed ground control before further image editing.</procdesc>
<srcused>withheld</srcused>
<procdate>2006</procdate>
<srcprod>withheld</srcprod>
</procstep>
<procstep>
<procdesc>Tiled orthophotos then go through a rigorous manual QC process to evaluate for remaining hotspots (sun reflectance over water), tone quality, color balance and the feathering area between flightlines. Any imperfections at this point are manually edited. If necessary, the tiled images are then converted to required format. All images are either recorded on DVD, transferred to HD or posted on FTP for client access.</procdesc>
<srcused>withheld</srcused>
<procdate>2006</procdate>
<srcprod>withheld</srcprod>
</procstep>
<procstep>
<procdesc Sync="TRUE">Metadata imported.</procdesc>
<srcused Sync="FALSE">withheld</srcused>
<date Sync="TRUE">20080303</date>
<time Sync="TRUE">15325300</time>
</procstep>
</lineage>
</dataqual>
<spdoinfo>
<direct Sync="TRUE">Raster</direct>
<rastinfo>
<rasttype Sync="TRUE">Pixel</rasttype>
<rowcount Sync="TRUE">276000</rowcount>
<colcount Sync="TRUE">318000</colcount>
<rastxsz Sync="TRUE">0.500000</rastxsz>
<rastysz Sync="TRUE">0.500000</rastysz>
<rastbpp Sync="TRUE">8</rastbpp>
<vrtcount Sync="TRUE">1</vrtcount>
<rastorig Sync="TRUE">Upper Left</rastorig>
<rastcmap Sync="TRUE">FALSE</rastcmap>
<rastcomp Sync="TRUE">LZ77</rastcomp>
<rastband Sync="TRUE">3</rastband>
<rastdtyp Sync="TRUE">pixel codes</rastdtyp>
<rastifor Sync="TRUE">SDR</rastifor>
<rastplyr Sync="TRUE">TRUE</rastplyr>
</rastinfo>
</spdoinfo>
<spref>
<horizsys>
<planar>
<planci>
<plance Sync="TRUE">row and column</plance>
<coordrep>
<absres Sync="TRUE">0.500000</absres>
<ordres Sync="TRUE">0.500000</ordres>
</coordrep>
<plandu Sync="TRUE">survey feet</plandu>
</planci>
</planar>
<geodetic>
<horizdn Sync="TRUE">North American Datum of 1983</horizdn>
<ellips Sync="TRUE">Geodetic Reference System 80</ellips>
<semiaxis Sync="TRUE">6378137.000000</semiaxis>
<denflat Sync="TRUE">298.257222</denflat>
</geodetic>
<cordsysn>
<geogcsn Sync="TRUE">GCS_North_American_1983</geogcsn>
<projcsn Sync="TRUE">NAD_1983_StatePlane_Indiana_East_FIPS_1301_Feet</projcsn>
</cordsysn>
</horizsys>
<vertdef>
<altsys>
<altdatum>North American Vertical Datum of 1988</altdatum>
<altres Sync="TRUE">1.000000</altres>
<altunits>US Feet</altunits>
<altenc Sync="TRUE">Explicit elevation coordinate included with horizontal coordinates</altenc>
</altsys>
</vertdef>
</spref>
<eainfo>
<overview>
<eaover>Color orthophotos are comprised of pixels. Each pixel is assigned a value of 0 to 255. That number will refer to a color look-up table which contains red, green and blue (RGB) values, each from 0 to 255, for that pixel within the image.</eaover>
<eadetcit>None</eadetcit>
</overview>
</eainfo>
<distinfo>
<distrib>
<cntinfo>
<cntperp>
<cntper>Richard E. Bokern, Jr.</cntper>
<cntorg>Allen County iMap</cntorg>
</cntperp>
<cntpos>Principal iMap System Technician</cntpos>
<cntaddr>
<addrtype>mailing and physical</addrtype>
<address>1 East Main Street RM 630</address>
<city>Fort Wayne</city>
<state>IN</state>
<postal>46802</postal>
<country>US</country>
</cntaddr>
<cntvoice>260-449-7607</cntvoice>
<cntfax>260-449-7682</cntfax>
<cntemail>rick.bokern@co.allen.in.us</cntemail>
<hours>0800-1630 EST, M-F</hours>
</cntinfo>
</distrib>
<resdesc>2006 county-wide color orthophotos</resdesc>
<distliab>Allen County iMap provides the geographic data "as is". This organization makes no guarantee or warranty concerning the accuracy of information contained in the geographic data. Also, this organization makes no warranty, either expressed or implied, regarding the condition of the product or its fitness for any particular purpose. The burden for determining fitness for use lies entirely with the user. Although these files have been processed successfully on computers at this organization, no warranty is made by this organization regarding the use of these data on any other system, nor does the fact of distribution constitute or imply such a warranty.</distliab>
<stdorder>
<digform>
<digtinfo>
<formname>unknown</formname>
</digtinfo>
<digtopt>
<onlinopt>
<computer>
<networka>
<networkr>withheld</networkr>
</networka>
</computer>
<accinstr>contact Richard E. Bokern, Jr. using contact information above</accinstr>
</onlinopt>
</digtopt>
</digform>
<fees>Unknown</fees>
<ordering>contact Richard E. Bokern, Jr. using contact information above</ordering>
</stdorder>
<availabl>
<timeinfo>
<sngdate>
<caldate>2007</caldate>
</sngdate>
</timeinfo>
</availabl>
</distinfo>
<metainfo>
<metd Sync="TRUE">20090818</metd>
<metrd>20070110</metrd>
<metc>
<cntinfo>
<cntperp>
<cntper>Richard E. Bokern, Jr.</cntper>
<cntorg>Allen County iMap</cntorg>
</cntperp>
<cntpos>Principal iMap System Technician</cntpos>
<cntaddr>
<addrtype>mailing and physical</addrtype>
<address>1 East Main Street RM 630</address>
<city>Fort Wayne</city>
<state>IN</state>
<postal>46802</postal>
<country>US</country>
</cntaddr>
<cntvoice>260-449-7607</cntvoice>
<cntfax>260-449-7682</cntfax>
<cntemail>rick.bokern@co.allen.in.us</cntemail>
<hours>0800-1630 EST, M-F</hours>
</cntinfo>
</metc>
<metstdn Sync="TRUE">FGDC Content Standards for Digital Geospatial Metadata</metstdn>
<metstdv Sync="TRUE">FGDC-STD-001-1998</metstdv>
<langmeta Sync="TRUE">en</langmeta>
<mettc Sync="TRUE">local time</mettc>
</metainfo>
<Esri>
<MetaID>{968EA030-CB19-452C-8F7D-A2EA41D3DB1F}</MetaID>
<CreaDate>20080303</CreaDate>
<CreaTime>15325300</CreaTime>
<SyncOnce>FALSE</SyncOnce>
<SyncDate>20130107</SyncDate>
<SyncTime>09423500</SyncTime>
<ModDate>20130107</ModDate>
<ModTime>09423500</ModTime>
<DataProperties>
<itemProps>
<itemName Sync="FALSE">AERIALS_2006</itemName>
<imsContentType>002</imsContentType>
<nativeExtBox>
<westBL Sync="TRUE">413000.000000</westBL>
<eastBL Sync="TRUE">572000.000000</eastBL>
<southBL Sync="TRUE">2062000.000000</southBL>
<northBL Sync="TRUE">2200000.000000</northBL>
<exTypeCode Sync="TRUE">1</exTypeCode>
</nativeExtBox>
</itemProps>
<coordRef>
<type Sync="TRUE">Projected</type>
<geogcsn Sync="TRUE">GCS_North_American_1983</geogcsn>
<csUnits Sync="TRUE">Linear Unit: Foot_US (0.304801)</csUnits>
<projcsn Sync="TRUE">NAD_1983_StatePlane_Indiana_East_FIPS_1301_Feet</projcsn>
<peXml Sync="TRUE">&lt;ProjectedCoordinateSystem xsi:type='typens:ProjectedCoordinateSystem' xmlns:xsi='http://www.w3.org/2001/XMLSchema-instance' xmlns:xs='http://www.w3.org/2001/XMLSchema' xmlns:typens='http://www.esri.com/schemas/ArcGIS/10.0'&gt;&lt;WKT&gt;PROJCS[&amp;quot;NAD_1983_StatePlane_Indiana_East_FIPS_1301_Feet&amp;quot;,GEOGCS[&amp;quot;GCS_North_American_1983&amp;quot;,DATUM[&amp;quot;D_North_American_1983&amp;quot;,SPHEROID[&amp;quot;GRS_1980&amp;quot;,6378137.0,298.257222101]],PRIMEM[&amp;quot;Greenwich&amp;quot;,0.0],UNIT[&amp;quot;Degree&amp;quot;,0.0174532925199433]],PROJECTION[&amp;quot;Transverse_Mercator&amp;quot;],PARAMETER[&amp;quot;False_Easting&amp;quot;,328083.3333333333],PARAMETER[&amp;quot;False_Northing&amp;quot;,820208.3333333333],PARAMETER[&amp;quot;Central_Meridian&amp;quot;,-85.66666666666667],PARAMETER[&amp;quot;Scale_Factor&amp;quot;,0.9999666666666667],PARAMETER[&amp;quot;Latitude_Of_Origin&amp;quot;,37.5],UNIT[&amp;quot;Foot_US&amp;quot;,0.3048006096012192],AUTHORITY[&amp;quot;EPSG&amp;quot;,2965]]&lt;/WKT&gt;&lt;XOrigin&gt;-18119800&lt;/XOrigin&gt;&lt;YOrigin&gt;-45615400&lt;/YOrigin&gt;&lt;XYScale&gt;137246076.82899535&lt;/XYScale&gt;&lt;ZOrigin&gt;0&lt;/ZOrigin&gt;&lt;ZScale&gt;1&lt;/ZScale&gt;&lt;MOrigin&gt;0&lt;/MOrigin&gt;&lt;MScale&gt;1&lt;/MScale&gt;&lt;XYTolerance&gt;0.0032808333333333335&lt;/XYTolerance&gt;&lt;ZTolerance&gt;2&lt;/ZTolerance&gt;&lt;MTolerance&gt;2&lt;/MTolerance&gt;&lt;HighPrecision&gt;true&lt;/HighPrecision&gt;&lt;WKID&gt;2965&lt;/WKID&gt;&lt;/ProjectedCoordinateSystem&gt;</peXml>
</coordRef>
</DataProperties>
<ArcGISFormat>1.0</ArcGISFormat>
<ArcGISProfile>ISO19139</ArcGISProfile>
</Esri>
<dataIdInfo>
<envirDesc Sync="FALSE">ESRI ArcGIS 10.0.5.4400</envirDesc>
<dataLang>
<languageCode Sync="TRUE" value="eng">
</languageCode>
<countryCode Sync="TRUE" value="USA">
</countryCode>
</dataLang>
<idCitation>
<resTitle Sync="FALSE">GISRASTER.SDE.AERIALS_2006</resTitle>
<presForm>
<PresFormCd Sync="TRUE" value="011">
</PresFormCd>
</presForm>
<citRespParty>
<rpOrgName>Allen County iMap</rpOrgName>
<role>
<RoleCd value="006">
</RoleCd>
</role>
</citRespParty>
<citRespParty>
<rpOrgName>Department of Information Technology</rpOrgName>
<rpPosName>GIS Coorinator</rpPosName>
<role>
<RoleCd value="007">
</RoleCd>
</role>
<rpCntInfo>
<cntAddress addressType="both">
<delPoint>200 East Berry Street, Suite 415</delPoint>
<city>Fort Wayne</city>
<adminArea>IN</adminArea>
<postCode>46802</postCode>
<eMailAdd>imapadmin@allencounty.us</eMailAdd>
<country>US</country>
</cntAddress>
<cntPhone>
<voiceNum tddtty="">260-449-3608</voiceNum>
<faxNum>260-449-7568</faxNum>
</cntPhone>
<cntHours>8:00 AM - 5:00 PM</cntHours>
<cntInstr>M - F, except for holidays</cntInstr>
</rpCntInfo>
</citRespParty>
</idCitation>
<spatRpType>
<SpatRepTypCd Sync="TRUE" value="002">
</SpatRepTypCd>
</spatRpType>
<dataExt>
<geoEle>
<GeoBndBox esriExtentType="native">
<westBL Sync="TRUE">413000</westBL>
<eastBL Sync="TRUE">572000</eastBL>
<northBL Sync="TRUE">2200000</northBL>
<southBL Sync="TRUE">2062000</southBL>
<exTypeCode Sync="TRUE">1</exTypeCode>
</GeoBndBox>
</geoEle>
</dataExt>
<geoBox esriExtentType="decdegrees">
<westBL Sync="TRUE">-85.359447</westBL>
<eastBL Sync="TRUE">-84.779162</eastBL>
<northBL Sync="TRUE">41.287764</northBL>
<southBL Sync="TRUE">40.90604</southBL>
<exTypeCode Sync="TRUE">1</exTypeCode>
</geoBox>
<dataExt>
<geoEle>
<GeoBndBox esriExtentType="search">
<exTypeCode Sync="TRUE">1</exTypeCode>
<westBL Sync="TRUE">-85.359447</westBL>
<eastBL Sync="TRUE">-84.779162</eastBL>
<northBL Sync="TRUE">41.287764</northBL>
<southBL Sync="TRUE">40.906040</southBL>
</GeoBndBox>
</geoEle>
</dataExt>
<idPurp>A digital orthophoto is a geometrically accurate photographic record of landscape conditions at the time of the corresponding aerial photography. As such, the...</idPurp>
<idAbs>This metadata record describes the digital ortho imagery for Allen County, IN. This 1200 scale imagery is comprised of natural color orthophotography with a GSD (Ground Sample Distance) of 0.5'. Imagery was collected with the Leica ADS40 digital sensor and processed with Leica GPro software</idAbs>
<searchKeys>
<keyword>imageryBaseMapsEarthCover</keyword>
</searchKeys>
<resConst>
<Consts>
<useLimit>None</useLimit>
</Consts>
</resConst>
<idPoC>
<rpOrgName>Department of Information Technology</rpOrgName>
<rpPosName>GIS Coordinator</rpPosName>
<role>
<RoleCd value="007">
</RoleCd>
</role>
<rpCntInfo>
<cntAddress addressType="both">
<delPoint>200 East Berry Street, Suite 415</delPoint>
<city>Fort Wayne</city>
<adminArea>IN</adminArea>
<postCode>46802</postCode>
<eMailAdd>imapadmin@allencounty.us</eMailAdd>
<country>US</country>
</cntAddress>
<cntPhone>
<voiceNum tddtty="">260-449-3608</voiceNum>
<faxNum>260-449-7568</faxNum>
</cntPhone>
<cntHours>8:00 AM - 5:00 PM</cntHours>
<cntInstr>M - F, except for holidays</cntInstr>
</rpCntInfo>
</idPoC>
<idCredit>imap</idCredit>
</dataIdInfo>
<mdLang>
<languageCode Sync="TRUE" value="eng">
</languageCode>
<countryCode Sync="TRUE" value="USA">
</countryCode>
</mdLang>
<mdChar>
<CharSetCd Sync="TRUE" value="004">
</CharSetCd>
</mdChar>
<mdHrLv>
<ScopeCd Sync="TRUE" value="005">
</ScopeCd>
</mdHrLv>
<mdHrLvName Sync="TRUE">dataset</mdHrLvName>
<distInfo>
<distributor>
<distorTran>
<onLineSrc>
<orDesc Sync="TRUE">002</orDesc>
<linkage Sync="FALSE">withheld</linkage>
</onLineSrc>
</distorTran>
<distorFormat>
<formatName Sync="FALSE">Raster Dataset</formatName>
</distorFormat>
</distributor>
<distFormat>
<formatName Sync="FALSE">Raster Dataset</formatName>
</distFormat>
</distInfo>
