<?xml version="1.0" encoding="UTF-8" standalone="no"?>
<metadata xml:lang="en">
<Esri>
<MetaID>{9B577D87-EA4B-4214-927B-E42B13EA3B2C}</MetaID>
<CreaDate>20071126</CreaDate>
<CreaTime>14090600</CreaTime>
<SyncOnce>FALSE</SyncOnce>
<SyncDate>20140403</SyncDate>
<SyncTime>09202000</SyncTime>
<ModDate>20140403</ModDate>
<ModTime>09202000</ModTime>
<DataProperties>
<itemProps>
<itemName Sync="FALSE">AERIALS_2003</itemName>
<imsContentType Sync="TRUE" export="False">002</imsContentType>
<nativeExtBox>
<westBL Sync="TRUE">413000.000000</westBL>
<eastBL Sync="TRUE">572000.000000</eastBL>
<southBL Sync="TRUE">2062000.000000</southBL>
<northBL Sync="TRUE">2200000.000000</northBL>
<exTypeCode Sync="TRUE">1</exTypeCode>
</nativeExtBox>
</itemProps>
<coordRef>
<type Sync="TRUE">Projected</type>
<geogcsn Sync="TRUE">GCS_North_American_1983</geogcsn>
<csUnits Sync="TRUE">Linear Unit: Foot_US (0.304801)</csUnits>
<projcsn Sync="TRUE">NAD_1983_StatePlane_Indiana_East_FIPS_1301_Feet</projcsn>
<peXml Sync="TRUE">&lt;ProjectedCoordinateSystem xsi:type='typens:ProjectedCoordinateSystem' xmlns:xsi='http://www.w3.org/2001/XMLSchema-instance' xmlns:xs='http://www.w3.org/2001/XMLSchema' xmlns:typens='http://www.esri.com/schemas/ArcGIS/10.1'&gt;&lt;WKT&gt;PROJCS[&amp;quot;NAD_1983_StatePlane_Indiana_East_FIPS_1301_Feet&amp;quot;,GEOGCS[&amp;quot;GCS_North_American_1983&amp;quot;,DATUM[&amp;quot;D_North_American_1983&amp;quot;,SPHEROID[&amp;quot;GRS_1980&amp;quot;,6378137.0,298.257222101]],PRIMEM[&amp;quot;Greenwich&amp;quot;,0.0],UNIT[&amp;quot;Degree&amp;quot;,0.0174532925199433]],PROJECTION[&amp;quot;Transverse_Mercator&amp;quot;],PARAMETER[&amp;quot;False_Easting&amp;quot;,328083.3333333333],PARAMETER[&amp;quot;False_Northing&amp;quot;,820208.3333333333],PARAMETER[&amp;quot;Central_Meridian&amp;quot;,-85.66666666666667],PARAMETER[&amp;quot;Scale_Factor&amp;quot;,0.9999666666666667],PARAMETER[&amp;quot;Latitude_Of_Origin&amp;quot;,37.5],UNIT[&amp;quot;Foot_US&amp;quot;,0.3048006096012192],AUTHORITY[&amp;quot;EPSG&amp;quot;,2965]]&lt;/WKT&gt;&lt;XOrigin&gt;-18119800&lt;/XOrigin&gt;&lt;YOrigin&gt;-45615400&lt;/YOrigin&gt;&lt;XYScale&gt;137246076.82899535&lt;/XYScale&gt;&lt;ZOrigin&gt;0&lt;/ZOrigin&gt;&lt;ZScale&gt;1&lt;/ZScale&gt;&lt;MOrigin&gt;0&lt;/MOrigin&gt;&lt;MScale&gt;1&lt;/MScale&gt;&lt;XYTolerance&gt;0.0032808333333333331&lt;/XYTolerance&gt;&lt;ZTolerance&gt;2&lt;/ZTolerance&gt;&lt;MTolerance&gt;2&lt;/MTolerance&gt;&lt;HighPrecision&gt;true&lt;/HighPrecision&gt;&lt;WKID&gt;2244&lt;/WKID&gt;&lt;LatestWKID&gt;2965&lt;/LatestWKID&gt;&lt;/ProjectedCoordinateSystem&gt;</peXml>
</coordRef>
</DataProperties>
<ArcGISFormat>1.0</ArcGISFormat>
<ArcGISProfile>ISO19139</ArcGISProfile>
</Esri>
<idinfo>
<native Sync="FALSE">ESRI ArcCatalog 9.2.2.1350</native>
<descript>
<langdata Sync="TRUE">en</langdata>
<abstract>A digital orthophoto (DO) is a digital raster image of an aerial photograph which, through a process of differential rectification, has been brought to an accurate, uniform scale with a specified tolerance. The differential rectification process involves relating the digital photo imagery to terrain coordinates and elevations (e.g., a digital terrain model) so as to correct for scale variation due to terrain relief and image displacement due to the angular offsets of the aerial camera at the time of exposure. A digital orthophoto is essentially the image-based equivalent of a photogrammetrically compiled planimetric map. Allen County .5' Pixel Orthophotography</abstract>
<purpose>A digital orthophoto is a geometrically accurate photographic record of landscape conditions at the time of the corresponding aerial photography. As such, the digital orthophoto is useful for a variety of applications, such as environmental monitoring, facility engineering/maintenance, city/county planning, property line review, etc. The digital orthophoto can be used alone or as a raster basemap for corresponding vector line mapping.</purpose>
</descript>
<citation>
<citeinfo>
<origin>REQUIRED: The name of an organization or individual that developed the data set.</origin>
<pubdate>REQUIRED: The date when the data set is published or otherwise made available for release.</pubdate>
<title Sync="FALSE">AERIALS_2003</title>
<ftname Sync="FALSE">AERIALS_2003</ftname>
<geoform Sync="TRUE">SDE raster digital data</geoform>
<onlink Sync="FALSE">withheld</onlink>
</citeinfo>
</citation>
<timeperd>
<current>REQUIRED: The basis on which the time period of content information is determined.</current>
<timeinfo>
<sngdate>
<caldate>REQUIRED: The year (and optionally month, or month and day) for which the data set corresponds to the ground.</caldate>
</sngdate>
</timeinfo>
</timeperd>
<status>
<progress>REQUIRED: The state of the data set.</progress>
<update>REQUIRED: The frequency with which changes and additions are made to the data set after the initial data set is completed.</update>
</status>
<spdom>
<bounding>
<westbc Sync="TRUE">-85.359447</westbc>
<eastbc Sync="TRUE">-84.779162</eastbc>
<northbc Sync="TRUE">41.287764</northbc>
<southbc Sync="TRUE">40.906040</southbc>
</bounding>
<lboundng>
<leftbc Sync="TRUE">413000.000000</leftbc>
<rightbc Sync="TRUE">572000.000000</rightbc>
<bottombc Sync="TRUE">2062000.000000</bottombc>
<topbc Sync="TRUE">2200000.000000</topbc>
</lboundng>
</spdom>
<keywords>
<theme>
<themekey>aerial photograph, basemap, digital photograph, orthophoto</themekey>
</theme>
</keywords>
<accconst>REQUIRED: Restrictions and legal prerequisites for accessing the data set.</accconst>
<useconst>REQUIRED: Restrictions and legal prerequisites for using the data set after access is granted.</useconst>
<natvform Sync="FALSE">Raster Dataset</natvform>
</idinfo>
<dataIdInfo>
<envirDesc Sync="FALSE">Esri ArcGIS 10.2.1.3497</envirDesc>
<dataLang>
<languageCode Sync="TRUE" value="eng">
</languageCode>
<countryCode Sync="TRUE" value="USA">
</countryCode>
</dataLang>
<idCitation>
<resTitle Sync="FALSE">GISRASTER.SDE.AERIALS_2003</resTitle>
<presForm>
<PresFormCd Sync="TRUE" value="011">
</PresFormCd>
</presForm>
<citRespParty>
<rpOrgName>Allen County iMap</rpOrgName>
<role>
<RoleCd value="010">
</RoleCd>
</role>
</citRespParty>
<citRespParty>
<rpOrgName>Department of Information Technology</rpOrgName>
<rpPosName>GIS Coordinator</rpPosName>
<role>
<RoleCd value="007">
</RoleCd>
</role>
<rpCntInfo>
<cntAddress addressType="both">
<delPoint>200 East Berry Street, Suite 415</delPoint>
<city>Fort Wayne</city>
<adminArea>IN</adminArea>
<postCode>46802</postCode>
<eMailAdd>imapadmin@allencounty.us</eMailAdd>
<country>US</country>
</cntAddress>
<cntPhone>
<voiceNum tddtty="">260-449-3608</voiceNum>
<faxNum>260-449-7568</faxNum>
</cntPhone>
<cntHours>8:00 AM - 5:00 PM</cntHours>
<cntInstr>M - F, except for holidays</cntInstr>
</rpCntInfo>
</citRespParty>
<citRespParty>
<rpOrgName>Kucera International, Inc</rpOrgName>
<role>
<RoleCd value="006">
</RoleCd>
</role>
</citRespParty>
<date>
<createDate>2003-09-30T00:00:00</createDate>
<pubDate>2003-09-30T00:00:00</pubDate>
</date>
<resEd>One</resEd>
<resEdDate>20030930</resEdDate>
</idCitation>
<spatRpType>
<SpatRepTypCd Sync="TRUE" value="002">
</SpatRepTypCd>
</spatRpType>
<dataExt>
<geoEle>
<GeoBndBox esriExtentType="native">
<westBL Sync="TRUE">413000</westBL>
<eastBL Sync="TRUE">572000</eastBL>
<northBL Sync="TRUE">2200000</northBL>
<southBL Sync="TRUE">2062000</southBL>
<exTypeCode Sync="TRUE">1</exTypeCode>
</GeoBndBox>
</geoEle>
</dataExt>
<geoBox esriExtentType="decdegrees">
<westBL Sync="TRUE">-85.359447</westBL>
<eastBL Sync="TRUE">-84.779162</eastBL>
<northBL Sync="TRUE">41.287764</northBL>
<southBL Sync="TRUE">40.90604</southBL>
<exTypeCode Sync="TRUE">1</exTypeCode>
</geoBox>
<dataExt>
<geoEle>
<GeoBndBox esriExtentType="search">
<exTypeCode Sync="TRUE">1</exTypeCode>
<westBL Sync="TRUE">-85.359447</westBL>
<eastBL Sync="TRUE">-84.779162</eastBL>
<northBL Sync="TRUE">41.287764</northBL>
<southBL Sync="TRUE">40.906040</southBL>
</GeoBndBox>
</geoEle>
</dataExt>
<idPoC>
<rpOrgName>Department of Information Technology</rpOrgName>
<rpPosName>GIS Coordinator</rpPosName>
<role>
<RoleCd value="007">
</RoleCd>
</role>
<rpCntInfo>
<cntAddress addressType="both">
<delPoint>200 East Berry Street, Suite 415</delPoint>
<city>Fort Wayne</city>
<adminArea>IN</adminArea>
<postCode>46802</postCode>
<eMailAdd>imapadmin@allencounty.us</eMailAdd>
<country>US</country>
</cntAddress>
<cntPhone>
<voiceNum tddtty="">260-449-3608</voiceNum>
<faxNum>260-449-7568</faxNum>
</cntPhone>
<cntHours>8:00 AM - 5:00 PM</cntHours>
<cntInstr>M - F, except for holidays</cntInstr>
</rpCntInfo>
</idPoC>
<idAbs>A digital orthophoto (DO) is a digital raster image of an aerial photograph which, through a process of differential rectification, has been brought to an accurate, uniform scale with a specified tolerance. The differential rectification process involves relating the digital photo imagery to terrain coordinates and elevations (e.g., a digital terrain model) so as to correct for scale variation due to terrain relief and image displacement due to the angular offsets of the aerial camera at the time of exposure. A digital orthophoto is essentially the image-based equivalent of a photogrammetrically compiled planimetric map. Allen County .5' Pixel Orthophotography</idAbs>
<idPurp>A digital orthophoto is a geometrically accurate photographic record of landscape conditions at the time of the corresponding aerial photography. As such, the...</idPurp>
<dataChar>
<CharSetCd value="004">
</CharSetCd>
</dataChar>
<themeKeys>
<keyword>aerial photograph, basemap, digital photograph, orthophoto</keyword>
</themeKeys>
<placeKeys>
<keyword>Allen County, Fort Wayne, Indiana</keyword>
</placeKeys>
<idStatus>
<ProgCd value="001">
</ProgCd>
</idStatus>
<suppInfo>The 2003 aerial photography was flown April 4th &amp; 10th of 2003, in a joint effort between the City of Fort Wayne and Allen County. The photos have a 6" pixel resolution and cover the entire county</suppInfo>
<tpCat>
<TopicCatCd value="010">
</TopicCatCd>
</tpCat>
<searchKeys>
<keyword>aerial photograph</keyword>
<keyword>basemap</keyword>
<keyword>digital photograph</keyword>
<keyword>orthophoto</keyword>
</searchKeys>
<idCredit>imap</idCredit>
<resConst>
<Consts>
<useLimit>none</useLimit>
</Consts>
</resConst>
</dataIdInfo>
<metainfo>
<langmeta Sync="TRUE">en</langmeta>
<metstdn Sync="TRUE">FGDC Content Standards for Digital Geospatial Metadata</metstdn>
<metstdv Sync="TRUE">FGDC-STD-001-1998</metstdv>
<mettc Sync="TRUE">local time</mettc>
<metc>
<cntinfo>
<cntorgp>
<cntper>REQUIRED: The person responsible for the metadata information.</cntper>
<cntorg>REQUIRED: The organization responsible for the metadata information.</cntorg>
</cntorgp>
<cntaddr>
<addrtype>REQUIRED: The mailing and/or physical address for the organization or individual.</addrtype>
<city>REQUIRED: The city of the address.</city>
<state>REQUIRED: The state or province of the address.</state>
<postal>REQUIRED: The ZIP or other postal code of the address.</postal>
</cntaddr>
<cntvoice>REQUIRED: The telephone number by which individuals can speak to the organization or individual.</cntvoice>
</cntinfo>
</metc>
<metd Sync="TRUE">20080303</metd>
</metainfo>
<mdLang>
<languageCode Sync="TRUE" value="eng">
</languageCode>
<countryCode Sync="TRUE" value="USA">
</countryCode>
</mdLang>
<mdStanName Sync="TRUE">ISO 19115 Geographic Information - Metadata</mdStanName>
<mdStanVer Sync="TRUE">DIS_ESRI1.0</mdStanVer>
<mdChar>
<CharSetCd Sync="TRUE" value="004">
</CharSetCd>
</mdChar>
<mdHrLv>
<ScopeCd Sync="TRUE" value="005">
</ScopeCd>
</mdHrLv>
<mdHrLvName Sync="TRUE">dataset</mdHrLvName>
<distinfo>
<resdesc Sync="TRUE">Downloadable Data</resdesc>
</distinfo>
<distInfo>
<distributor>
<distorTran>
<onLineSrc>
<orDesc Sync="TRUE">002</orDesc>
<linkage Sync="FALSE">withheld</linkage>
</onLineSrc>
</distorTran>
<distorFormat>
<formatName Sync="FALSE">Raster Dataset</formatName>
</distorFormat>
</distributor>
<distFormat>
<formatName Sync="FALSE">Raster Dataset</formatName>
</distFormat>
</distInfo>
<spdoinfo>
<direct Sync="TRUE">Raster</direct>
<rastinfo>
<rasttype Sync="TRUE">Pixel</rasttype>
<rowcount Sync="TRUE">276000</rowcount>
<colcount Sync="TRUE">318000</colcount>
<rastxsz Sync="TRUE">0.500000</rastxsz>
<rastysz Sync="TRUE">0.500000</rastysz>
<rastbpp Sync="TRUE">8</rastbpp>
<vrtcount Sync="TRUE">1</vrtcount>
<rastorig Sync="TRUE">Upper Left</rastorig>
<rastcmap Sync="TRUE">FALSE</rastcmap>
<rastcomp Sync="TRUE">LZ77</rastcomp>
<rastband Sync="TRUE">3</rastband>
<rastdtyp Sync="TRUE">pixel codes</rastdtyp>
<rastifor Sync="TRUE">SDR</rastifor>
<rastplyr Sync="TRUE">TRUE</rastplyr>
</rastinfo>
</spdoinfo>
<spref>
<horizsys>
<cordsysn>
<geogcsn Sync="TRUE">GCS_North_American_1983</geogcsn>
<projcsn Sync="TRUE">NAD_1983_StatePlane_Indiana_East_FIPS_1301_Feet</projcsn>
</cordsysn>
<planar>
<planci>
<plance Sync="TRUE">row and column</plance>
<plandu Sync="TRUE">survey feet</plandu>
<coordrep>
<absres Sync="TRUE">0.500000</absres>
<ordres Sync="TRUE">0.500000</ordres>
</coordrep>
</planci>
</planar>
<geodetic>
<horizdn Sync="TRUE">North American Datum of 1983</horizdn>
<ellips Sync="TRUE">Geodetic Reference System 80</ellips>
<semiaxis Sync="TRUE">6378137.000000</semiaxis>
<denflat Sync="TRUE">298.257222</denflat>
</geodetic>
</horizsys>
<vertdef>
<altsys>
<altenc Sync="TRUE">Explicit elevation coordinate included with horizontal coordinates</altenc>
<altres Sync="TRUE">1.000000</altres>
</altsys>
</vertdef>
</spref>
<refSysInfo>
<RefSystem dimension="">
<refSysID>
<identCode Sync="TRUE" code="2965" value="2965">NAD_1983_StatePlane_Indiana_East_FIPS_1301_Feet</identCode>
<idCodeSpace Sync="TRUE">EPSG</idCodeSpace>
<idVersion Sync="TRUE">8.2.6</idVersion>
</refSysID>
</RefSystem>
</refSysInfo>
<mdDateSt Sync="TRUE">20140403</mdDateSt>
<mdContact>
<rpOrgName>Department of Information Technology</rpOrgName>
<rpPosName>GIS Coordinator</rpPosName>
<role>
<RoleCd value="007">
</RoleCd>
</role>
<rpCntInfo>
<cntAddress addressType="both">
<delPoint>200 East Berry Street, Suite 415</delPoint>
<city>Fort Wayne</city>
<adminArea>IN</adminArea>
<postCode>46802</postCode>
<eMailAdd>imapadmin@allencounty.us</eMailAdd>
<country>US</country>
</cntAddress>
<cntPhone>
<voiceNum tddtty="">260-449-3608</voiceNum>
<faxNum>260-449-7568</faxNum>
</cntPhone>
<cntHours>8:00 AM - 5:00 PM</cntHours>
<cntInstr>M - F, except for holidays</cntInstr>
</rpCntInfo>
</mdContact>
</metadata>
