<?xml version="1.0" encoding="UTF-8" standalone="no"?>
<metadata xml:lang="en">
<Esri>
<MetaID>{F4B83E08-706F-4001-B21D-6836111C6492}</MetaID>
<CreaDate>20111110</CreaDate>
<CreaTime>10185500</CreaTime>
<SyncOnce>FALSE</SyncOnce>
<DataProperties>
<itemProps>
<itemName Sync="FALSE">AERIALS_1972</itemName>
<imsContentType Sync="TRUE" export="False">002</imsContentType>
<nativeExtBox>
<westBL Sync="TRUE">404315.467684</westBL>
<eastBL Sync="TRUE">582607.086693</eastBL>
<southBL Sync="TRUE">2049064.747910</southBL>
<northBL Sync="TRUE">2210765.765973</northBL>
<exTypeCode Sync="TRUE">1</exTypeCode>
</nativeExtBox>
</itemProps>
<coordRef>
<type Sync="TRUE">Projected</type>
<geogcsn Sync="TRUE">GCS_North_American_1983</geogcsn>
<csUnits Sync="TRUE">Linear Unit: Foot_US (0.304801)</csUnits>
<projcsn Sync="TRUE">NAD_1983_StatePlane_Indiana_East_FIPS_1301_Feet</projcsn>
<peXml Sync="TRUE">&lt;ProjectedCoordinateSystem xsi:type='typens:ProjectedCoordinateSystem' xmlns:xsi='http://www.w3.org/2001/XMLSchema-instance' xmlns:xs='http://www.w3.org/2001/XMLSchema' xmlns:typens='http://www.esri.com/schemas/ArcGIS/10.0'&gt;&lt;WKT&gt;PROJCS[&amp;quot;NAD_1983_StatePlane_Indiana_East_FIPS_1301_Feet&amp;quot;,GEOGCS[&amp;quot;GCS_North_American_1983&amp;quot;,DATUM[&amp;quot;D_North_American_1983&amp;quot;,SPHEROID[&amp;quot;GRS_1980&amp;quot;,6378137.0,298.257222101]],PRIMEM[&amp;quot;Greenwich&amp;quot;,0.0],UNIT[&amp;quot;Degree&amp;quot;,0.0174532925199433]],PROJECTION[&amp;quot;Transverse_Mercator&amp;quot;],PARAMETER[&amp;quot;False_Easting&amp;quot;,328083.3333333333],PARAMETER[&amp;quot;False_Northing&amp;quot;,820208.3333333333],PARAMETER[&amp;quot;Central_Meridian&amp;quot;,-85.66666666666667],PARAMETER[&amp;quot;Scale_Factor&amp;quot;,0.9999666666666667],PARAMETER[&amp;quot;Latitude_Of_Origin&amp;quot;,37.5],UNIT[&amp;quot;Foot_US&amp;quot;,0.3048006096012192],AUTHORITY[&amp;quot;EPSG&amp;quot;,2965]]&lt;/WKT&gt;&lt;XOrigin&gt;-18119800&lt;/XOrigin&gt;&lt;YOrigin&gt;-45615400&lt;/YOrigin&gt;&lt;XYScale&gt;137246076.82899535&lt;/XYScale&gt;&lt;ZOrigin&gt;0&lt;/ZOrigin&gt;&lt;ZScale&gt;1&lt;/ZScale&gt;&lt;MOrigin&gt;-100000&lt;/MOrigin&gt;&lt;MScale&gt;10000&lt;/MScale&gt;&lt;XYTolerance&gt;0.0032808333333333335&lt;/XYTolerance&gt;&lt;ZTolerance&gt;2&lt;/ZTolerance&gt;&lt;MTolerance&gt;2&lt;/MTolerance&gt;&lt;HighPrecision&gt;true&lt;/HighPrecision&gt;&lt;WKID&gt;2965&lt;/WKID&gt;&lt;/ProjectedCoordinateSystem&gt;</peXml>
</coordRef>
</DataProperties>
<ModDate>20130104</ModDate>
<ModTime>12162100</ModTime>
<SyncDate>20130104</SyncDate>
<SyncTime>12073800</SyncTime>
<ArcGISFormat>1.0</ArcGISFormat>
<ArcGISProfile>ISO19139</ArcGISProfile>
</Esri>
<mdDateSt Sync="TRUE">20130104</mdDateSt>
<dataIdInfo>
<envirDesc Sync="FALSE">ESRI ArcGIS 10.0.5.4400</envirDesc>
<dataLang>
<languageCode Sync="TRUE" value="eng">
</languageCode>
<countryCode Sync="TRUE" value="USA">
</countryCode>
</dataLang>
<idCitation>
<resTitle Sync="FALSE">GISRASTER.SDE.AERIALS_1972</resTitle>
<presForm>
<PresFormCd Sync="TRUE" value="011">
</PresFormCd>
</presForm>
<citRespParty>
<rpOrgName>Allen County iMap</rpOrgName>
<role>
<RoleCd value="006">
</RoleCd>
</role>
</citRespParty>
<citRespParty>
<rpOrgName>Department of Information Technology</rpOrgName>
<rpPosName>GIS Cooordinator</rpPosName>
<role>
<RoleCd value="007">
</RoleCd>
</role>
<rpCntInfo>
<cntAddress addressType="both">
<delPoint>200 East Berry Street, Suite 415</delPoint>
<city>Fort Wayne</city>
<adminArea>IN</adminArea>
<postCode>46802</postCode>
<eMailAdd>imapadmin@allencounty.us</eMailAdd>
<country>US</country>
</cntAddress>
<cntPhone>
<voiceNum tddtty="">260-449-3608</voiceNum>
<faxNum>260-449-7568</faxNum>
</cntPhone>
<cntHours>8:00 AM - 5:00 PM</cntHours>
<cntInstr>M - F, except for holidays</cntInstr>
</rpCntInfo>
</citRespParty>
</idCitation>
<spatRpType>
<SpatRepTypCd Sync="TRUE" value="002">
</SpatRepTypCd>
</spatRpType>
<dataExt>
<geoEle>
<GeoBndBox esriExtentType="search">
<exTypeCode Sync="TRUE">1</exTypeCode>
<westBL Sync="TRUE">-85.391014</westBL>
<eastBL Sync="TRUE">-84.740155</eastBL>
<northBL Sync="TRUE">41.317392</northBL>
<southBL Sync="TRUE">40.870240</southBL>
</GeoBndBox>
</geoEle>
</dataExt>
<idPoC>
<rpOrgName>Department of Information Technology</rpOrgName>
<rpPosName>GIS Coordinator</rpPosName>
<role>
<RoleCd value="007">
</RoleCd>
</role>
<rpCntInfo>
<cntAddress addressType="both">
<delPoint>200 East Berry Street, Suite 415</delPoint>
<city>Fort Wayne</city>
<adminArea>IN</adminArea>
<postCode>46802</postCode>
<eMailAdd>imapadmin@allencounty.us</eMailAdd>
<country>US</country>
</cntAddress>
<cntPhone>
<voiceNum tddtty="">260-449-3608</voiceNum>
<faxNum>260-449-7568</faxNum>
</cntPhone>
<cntHours>8:00 AM - 5:00 PM</cntHours>
<cntInstr>M - F, except for holidays</cntInstr>
</rpCntInfo>
</idPoC>
<themeKeys>
<keyword>Imagery</keyword>
<keyword>Raster</keyword>
</themeKeys>
<placeKeys>
<keyword>Allen County</keyword>
<keyword>Indiana</keyword>
<keyword>United States</keyword>
</placeKeys>
<idCredit>Allen County iMap, Allen County Surveyor's Office</idCredit>
<idAbs>Raster dataset created from scans of 1972 aerial contact prints, cropped to remove photo registration marks at 300 dpi at 24-bit. Each image was geo-referenced to Allen County street centerline data.</idAbs>
<tpCat>
<TopicCatCd value="010">
</TopicCatCd>
</tpCat>
<searchKeys>
<keyword>1972</keyword>
</searchKeys>
<idPurp>Raster dataset created from scans of 1972 aerial contact prints, cropped to remove photo registration marks at 300 dpi at 24-bit. Each image was geo-referenced to Allen County street centerline data.</idPurp>
<resConst>
<Consts>
<useLimit>none</useLimit>
</Consts>
</resConst>
</dataIdInfo>
<mdLang>
<languageCode Sync="TRUE" value="eng">
</languageCode>
<countryCode Sync="TRUE" value="USA">
</countryCode>
</mdLang>
<distInfo>
<distFormat>
<formatName Sync="FALSE">Raster Dataset</formatName>
</distFormat>
</distInfo>
<mdHrLv>
<ScopeCd Sync="TRUE" value="005">
</ScopeCd>
</mdHrLv>
<mdHrLvName Sync="TRUE">dataset</mdHrLvName>
<refSysInfo>
<RefSystem>
<refSysID>
<identCode Sync="TRUE" code="2965" value="2965">
</identCode>
<idCodeSpace Sync="TRUE">EPSG</idCodeSpace>
<idVersion Sync="TRUE">7.4.1</idVersion>
</refSysID>
</RefSystem>
</refSysInfo>
<spdoinfo>
<rastinfo>
<rasttype Sync="TRUE">Pixel</rasttype>
<rowcount Sync="TRUE">22849</rowcount>
<colcount Sync="TRUE">25151</colcount>
<rastxsz Sync="TRUE">7.088848</rastxsz>
<rastysz Sync="TRUE">7.076941</rastysz>
<rastbpp Sync="TRUE">8</rastbpp>
<vrtcount Sync="TRUE">1</vrtcount>
<rastorig Sync="TRUE">Upper Left</rastorig>
<rastcmap Sync="TRUE">FALSE</rastcmap>
<rastcomp Sync="TRUE">LZ77</rastcomp>
<rastband Sync="TRUE">3</rastband>
<rastdtyp Sync="TRUE">pixel codes</rastdtyp>
<rastifor Sync="TRUE">SDR</rastifor>
<rastplyr Sync="TRUE">TRUE</rastplyr>
</rastinfo>
</spdoinfo>
<spref>
<horizsys>
<planar>
<planci>
<plance Sync="TRUE">row and column</plance>
<coordrep>
<absres Sync="TRUE">7.088848</absres>
<ordres Sync="TRUE">7.076941</ordres>
</coordrep>
</planci>
</planar>
</horizsys>
</spref>
<mdContact>
<rpOrgName>Department of Information Technology</rpOrgName>
<rpPosName>GIS Coordinator</rpPosName>
<role>
<RoleCd value="007">
</RoleCd>
</role>
<rpCntInfo>
<cntAddress addressType="both">
<delPoint>200 East Berry Street, Suite 415</delPoint>
<city>Fort Wayne</city>
<adminArea>IN</adminArea>
<postCode>46802</postCode>
<eMailAdd>imapadmin@allencounty.us</eMailAdd>
<country>US</country>
</cntAddress>
<cntPhone>
<voiceNum tddtty="">260-449-3608</voiceNum>
<faxNum>260-449-7568</faxNum>
</cntPhone>
<cntHours>8:00 AM - 5:00 PM</cntHours>
<cntInstr>M - F, except for holidays</cntInstr>
</rpCntInfo>
</mdContact>
</metadata>
